BEGIN:VCALENDAR
VERSION:2.0
PRODID:-//Szentendrei Evangélikus Zenei Óvoda - ECPv6.5.2//NONSGML v1.0//EN
CALSCALE:GREGORIAN
METHOD:PUBLISH
X-WR-CALNAME:Szentendrei Evangélikus Zenei Óvoda
X-ORIGINAL-URL:https://evangelikusovi.hu
X-WR-CALDESC:Events for Szentendrei Evangélikus Zenei Óvoda
REFRESH-INTERVAL;VALUE=DURATION:PT1H
X-Robots-Tag:noindex
X-PUBLISHED-TTL:PT1H
BEGIN:VTIMEZONE
TZID:Europe/Budapest
BEGIN:DAYLIGHT
TZOFFSETFROM:+0100
TZOFFSETTO:+0200
TZNAME:CEST
DTSTART:20250330T010000
END:DAYLIGHT
BEGIN:STANDARD
TZOFFSETFROM:+0200
TZOFFSETTO:+0100
TZNAME:CET
DTSTART:20251026T010000
END:STANDARD
END:VTIMEZONE
BEGIN:VEVENT
DTSTART;TZID=Europe/Budapest:20251210T150000
DTEND;TZID=Europe/Budapest:20251210T170000
DTSTAMP:20260426T035221
CREATED:20251210T051604Z
LAST-MODIFIED:20251210T051604Z
UID:4156-1765378800-1765386000@evangelikusovi.hu
SUMMARY:ÁDVENTI BARKÁCSDÉLUTÁN
DESCRIPTION:Kedves Szülők! \nSzeretettel hívunk Benneteket\n2025. december 10-én szerdán\n15:00-17:00 óra között\, \naz ÁDVENTI BARKÁCSDÉLUTÁNRA\, ahol a\ngyermekek és a szülők a saját csoportjukban együtt\nkészíthetnek karácsonyváró díszt\, vagy dekorációt.\nA hangulathoz örömmel fogadunk édes vagy sós\nsüteményt\, csemegéket. Teáról\, zenéről mi gondoskodunk. \nMindenkit szeretettel várunk! \nAz óvoda munkatársai
URL:https://evangelikusovi.hu/esemeny/adventi-barkacsdelutan-5/
END:VEVENT
END:VCALENDAR