BEGIN:VCALENDAR
VERSION:2.0
PRODID:-//Szentendrei Evangélikus Zenei Óvoda - ECPv6.5.2//NONSGML v1.0//EN
CALSCALE:GREGORIAN
METHOD:PUBLISH
X-WR-CALNAME:Szentendrei Evangélikus Zenei Óvoda
X-ORIGINAL-URL:https://evangelikusovi.hu
X-WR-CALDESC:Events for Szentendrei Evangélikus Zenei Óvoda
REFRESH-INTERVAL;VALUE=DURATION:PT1H
X-Robots-Tag:noindex
X-PUBLISHED-TTL:PT1H
BEGIN:VTIMEZONE
TZID:Europe/Budapest
BEGIN:DAYLIGHT
TZOFFSETFROM:+0100
TZOFFSETTO:+0200
TZNAME:CEST
DTSTART:20250330T010000
END:DAYLIGHT
BEGIN:STANDARD
TZOFFSETFROM:+0200
TZOFFSETTO:+0100
TZNAME:CET
DTSTART:20251026T010000
END:STANDARD
END:VTIMEZONE
BEGIN:VEVENT
DTSTART;TZID=Europe/Budapest:20251217T170000
DTEND;TZID=Europe/Budapest:20251217T183000
DTSTAMP:20260426T034138
CREATED:20251215T162119Z
LAST-MODIFIED:20251215T162119Z
UID:4232-1765990800-1765996200@evangelikusovi.hu
SUMMARY:Templomi karácsony
DESCRIPTION:Templomi karácsony \nA gyermekekkel nagy örömmel és izgalommal készülődünk a betlehemes játékra\, amely\ndecember 17-én\, szerdán 17 órákor kezdődik az Evangélikus Templomban.\nMinden kedves családot szeretettel várunk! \nVárakozva és köszönettel:\nAz óvoda munkatársai
URL:https://evangelikusovi.hu/esemeny/templomi-karacsony/
CATEGORIES:Hitélet
END:VEVENT
END:VCALENDAR