BEGIN:VCALENDAR
VERSION:2.0
PRODID:-//Szentendrei Evangélikus Zenei Óvoda - ECPv6.5.2//NONSGML v1.0//EN
CALSCALE:GREGORIAN
METHOD:PUBLISH
X-ORIGINAL-URL:https://evangelikusovi.hu
X-WR-CALDESC:Events for Szentendrei Evangélikus Zenei Óvoda
REFRESH-INTERVAL;VALUE=DURATION:PT1H
X-Robots-Tag:noindex
X-PUBLISHED-TTL:PT1H
BEGIN:VTIMEZONE
TZID:Europe/Budapest
BEGIN:DAYLIGHT
TZOFFSETFROM:+0100
TZOFFSETTO:+0200
TZNAME:CEST
DTSTART:20260329T010000
END:DAYLIGHT
BEGIN:STANDARD
TZOFFSETFROM:+0200
TZOFFSETTO:+0100
TZNAME:CET
DTSTART:20261025T010000
END:STANDARD
END:VTIMEZONE
BEGIN:VEVENT
DTSTART;VALUE=DATE:20260212
DTEND;VALUE=DATE:20260213
DTSTAMP:20260425T193246
CREATED:20260204T060059Z
LAST-MODIFIED:20260204T060059Z
UID:4318-1770854400-1770940799@evangelikusovi.hu
SUMMARY:Farsang
DESCRIPTION:Február 12-én csütörtökön megrendezzü \nfarsangi vidám napunkat! \n 
URL:https://evangelikusovi.hu/esemeny/farsang/
END:VEVENT
END:VCALENDAR