BEGIN:VCALENDAR
VERSION:2.0
PRODID:-//Szentendrei Evangélikus Zenei Óvoda - ECPv6.5.2//NONSGML v1.0//EN
CALSCALE:GREGORIAN
METHOD:PUBLISH
X-WR-CALNAME:Szentendrei Evangélikus Zenei Óvoda
X-ORIGINAL-URL:https://evangelikusovi.hu
X-WR-CALDESC:Events for Szentendrei Evangélikus Zenei Óvoda
REFRESH-INTERVAL;VALUE=DURATION:PT1H
X-Robots-Tag:noindex
X-PUBLISHED-TTL:PT1H
BEGIN:VTIMEZONE
TZID:Europe/Budapest
BEGIN:DAYLIGHT
TZOFFSETFROM:+0100
TZOFFSETTO:+0200
TZNAME:CEST
DTSTART:20260329T010000
END:DAYLIGHT
BEGIN:STANDARD
TZOFFSETFROM:+0200
TZOFFSETTO:+0100
TZNAME:CET
DTSTART:20261025T010000
END:STANDARD
END:VTIMEZONE
BEGIN:VEVENT
DTSTART;VALUE=DATE:20260402
DTEND;VALUE=DATE:20260413
DTSTAMP:20260425T163318
CREATED:20260303T191641Z
LAST-MODIFIED:20260303T191641Z
UID:4369-1775088000-1776038399@evangelikusovi.hu
SUMMARY:Tavaszi szünet
DESCRIPTION:
URL:https://evangelikusovi.hu/esemeny/tavaszi-szunet/
END:VEVENT
BEGIN:VEVENT
DTSTART;TZID=Europe/Budapest:20260412T100000
DTEND;TZID=Europe/Budapest:20260412T110000
DTSTAMP:20260425T163318
CREATED:20260303T191724Z
LAST-MODIFIED:20260303T191724Z
UID:4371-1775988000-1775991600@evangelikusovi.hu
SUMMARY:Családi Istentisztelet
DESCRIPTION:
URL:https://evangelikusovi.hu/esemeny/csaladi-istentisztelet-29/
END:VEVENT
END:VCALENDAR