BEGIN:VCALENDAR
VERSION:2.0
PRODID:-//Szentendrei Evangélikus Zenei Óvoda - ECPv6.5.2//NONSGML v1.0//EN
CALSCALE:GREGORIAN
METHOD:PUBLISH
X-ORIGINAL-URL:https://evangelikusovi.hu
X-WR-CALDESC:Events for Szentendrei Evangélikus Zenei Óvoda
REFRESH-INTERVAL;VALUE=DURATION:PT1H
X-Robots-Tag:noindex
X-PUBLISHED-TTL:PT1H
BEGIN:VTIMEZONE
TZID:Europe/Budapest
BEGIN:DAYLIGHT
TZOFFSETFROM:+0100
TZOFFSETTO:+0200
TZNAME:CEST
DTSTART:20260329T010000
END:DAYLIGHT
BEGIN:STANDARD
TZOFFSETFROM:+0200
TZOFFSETTO:+0100
TZNAME:CET
DTSTART:20261025T010000
END:STANDARD
END:VTIMEZONE
BEGIN:VEVENT
DTSTART;TZID=Europe/Budapest:20260420T090000
DTEND;TZID=Europe/Budapest:20260420T100000
DTSTAMP:20260425T163451
CREATED:20260416T170553Z
LAST-MODIFIED:20260416T170715Z
UID:4432-1776675600-1776679200@evangelikusovi.hu
SUMMARY:Ákom-Bákom Bábszínház
DESCRIPTION:
URL:https://evangelikusovi.hu/esemeny/akom-bakom-babszinhaz/
END:VEVENT
END:VCALENDAR