BEGIN:VCALENDAR
VERSION:2.0
PRODID:-//Szentendrei Evangélikus Zenei Óvoda - ECPv6.5.2//NONSGML v1.0//EN
CALSCALE:GREGORIAN
METHOD:PUBLISH
X-WR-CALNAME:Szentendrei Evangélikus Zenei Óvoda
X-ORIGINAL-URL:https://evangelikusovi.hu
X-WR-CALDESC:Events for Szentendrei Evangélikus Zenei Óvoda
REFRESH-INTERVAL;VALUE=DURATION:PT1H
X-Robots-Tag:noindex
X-PUBLISHED-TTL:PT1H
BEGIN:VTIMEZONE
TZID:Europe/Budapest
BEGIN:DAYLIGHT
TZOFFSETFROM:+0100
TZOFFSETTO:+0200
TZNAME:CEST
DTSTART:20240331T010000
END:DAYLIGHT
BEGIN:STANDARD
TZOFFSETFROM:+0200
TZOFFSETTO:+0100
TZNAME:CET
DTSTART:20241027T010000
END:STANDARD
BEGIN:DAYLIGHT
TZOFFSETFROM:+0100
TZOFFSETTO:+0200
TZNAME:CEST
DTSTART:20250330T010000
END:DAYLIGHT
BEGIN:STANDARD
TZOFFSETFROM:+0200
TZOFFSETTO:+0100
TZNAME:CET
DTSTART:20251026T010000
END:STANDARD
END:VTIMEZONE
BEGIN:VEVENT
DTSTART;TZID=Europe/Budapest:20250519T170000
DTEND;TZID=Europe/Budapest:20250519T183000
DTSTAMP:20260426T030930
CREATED:20250414T185159Z
LAST-MODIFIED:20250522T043713Z
UID:3973-1747674000-1747679400@evangelikusovi.hu
SUMMARY:Évzáró Istentisztelet
DESCRIPTION:
URL:https://evangelikusovi.hu/esemeny/evzaro-istentisztelet-2/
END:VEVENT
BEGIN:VEVENT
DTSTART;TZID=Europe/Budapest:20250511T100000
DTEND;TZID=Europe/Budapest:20250511T110000
DTSTAMP:20260426T030930
CREATED:20250508T091930Z
LAST-MODIFIED:20250508T091930Z
UID:3999-1746957600-1746961200@evangelikusovi.hu
SUMMARY:Családi Istentisztelet
DESCRIPTION:Kedves Szülők! \nSzeretettel hívunk minden ovis családot \na vasárnap (május 11-én) délelőtt 10 órától kezdődő \ncsaládi istentiszteletre\, (mely egyben bakancsos istentisztelet) \namelyet templomunkban tartunk. \nIstentiszteletünkön \nRosa Lutheri Együttes szolgál. \naz óvoda vezetése és lelkésze \n 
URL:https://evangelikusovi.hu/esemeny/csaladi-istentisztelet-24/
CATEGORIES:Hitélet
END:VEVENT
BEGIN:VEVENT
DTSTART;TZID=Europe/Budapest:20250508T170000
DTEND;TZID=Europe/Budapest:20250508T180000
DTSTAMP:20260426T030930
CREATED:20250414T183120Z
LAST-MODIFIED:20250414T183120Z
UID:3957-1746723600-1746727200@evangelikusovi.hu
SUMMARY:Anyák napja
DESCRIPTION:
URL:https://evangelikusovi.hu/esemeny/anyak-napja-5/
END:VEVENT
BEGIN:VEVENT
DTSTART;TZID=Europe/Budapest:20250507T170000
DTEND;TZID=Europe/Budapest:20250507T180000
DTSTAMP:20260426T030930
CREATED:20250414T182814Z
LAST-MODIFIED:20250414T182814Z
UID:3955-1746637200-1746640800@evangelikusovi.hu
SUMMARY:Anyák napja
DESCRIPTION:
URL:https://evangelikusovi.hu/esemeny/anyak-napja-4/
END:VEVENT
BEGIN:VEVENT
DTSTART;TZID=Europe/Budapest:20250506T170000
DTEND;TZID=Europe/Budapest:20250506T180000
DTSTAMP:20260426T030930
CREATED:20250414T182616Z
LAST-MODIFIED:20250414T182616Z
UID:3953-1746550800-1746554400@evangelikusovi.hu
SUMMARY:Anyák napja
DESCRIPTION:
URL:https://evangelikusovi.hu/esemeny/anyak-napja-3/
END:VEVENT
BEGIN:VEVENT
DTSTART;TZID=Europe/Budapest:20250428T090000
DTEND;TZID=Europe/Budapest:20250428T113000
DTSTAMP:20260426T030930
CREATED:20250414T183810Z
LAST-MODIFIED:20250414T183810Z
UID:3965-1745830800-1745839800@evangelikusovi.hu
SUMMARY:Húsvét a csoportokban
DESCRIPTION:
URL:https://evangelikusovi.hu/esemeny/husvet-a-csoportokban-3/
END:VEVENT
BEGIN:VEVENT
DTSTART;TZID=Europe/Budapest:20250427T160000
DTEND;TZID=Europe/Budapest:20250427T170000
DTSTAMP:20260426T030930
CREATED:20250414T183332Z
LAST-MODIFIED:20250414T183612Z
UID:3959-1745769600-1745773200@evangelikusovi.hu
SUMMARY:Gyermek Istentisztelet
DESCRIPTION:
URL:https://evangelikusovi.hu/esemeny/gyermek-istentisztelet-33/
END:VEVENT
BEGIN:VEVENT
DTSTART;TZID=Europe/Budapest:20250415T090000
DTEND;TZID=Europe/Budapest:20250415T110000
DTSTAMP:20260426T030930
CREATED:20250414T065515Z
LAST-MODIFIED:20250414T183656Z
UID:3951-1744707600-1744714800@evangelikusovi.hu
SUMMARY:Nagyheti bibliakör a templomban
DESCRIPTION:Kedves Szülők! \n2025. április 15-én kedden Húsvét alkalmából az evangélikus templomban tartjuk Biblia-köri alkalmunkat. \nEzen a napon kérjük\, hogy a gyermekek \nlegkésőbb reggel 9:00-ig érkezzenek meg az óvodába\, hogy legyen időnk reggelizni és együtt indulhassunk el 10:15-kor a templomba. \nKöszönettel: az óvoda munkatársai és lelkésze \n  \n  \n 
URL:https://evangelikusovi.hu/esemeny/bibiliakor-a-templomban/
END:VEVENT
BEGIN:VEVENT
DTSTART;TZID=Europe/Budapest:20250413T100000
DTEND;TZID=Europe/Budapest:20250413T113000
DTSTAMP:20260426T030930
CREATED:20250414T184746Z
LAST-MODIFIED:20250414T184746Z
UID:3969-1744538400-1744543800@evangelikusovi.hu
SUMMARY:Családi Istentisztelet\, Virágvasárnap
DESCRIPTION:
URL:https://evangelikusovi.hu/esemeny/csaladi-istentisztelet-viragvasarnap/
END:VEVENT
BEGIN:VEVENT
DTSTART;VALUE=DATE:20250411
DTEND;VALUE=DATE:20250412
DTSTAMP:20260426T030930
CREATED:20250414T184641Z
LAST-MODIFIED:20250414T184641Z
UID:3967-1744329600-1744415999@evangelikusovi.hu
SUMMARY:Nevelés nélküli munkanap
DESCRIPTION:
URL:https://evangelikusovi.hu/esemeny/neveles-nelkuli-munkanap-16/
END:VEVENT
BEGIN:VEVENT
DTSTART;TZID=Europe/Budapest:20250404T153000
DTEND;TZID=Europe/Budapest:20250404T173000
DTSTAMP:20260426T030930
CREATED:20250404T094844Z
LAST-MODIFIED:20250404T094844Z
UID:3948-1743780600-1743787800@evangelikusovi.hu
SUMMARY:Volt ovis találkozó
DESCRIPTION:
URL:https://evangelikusovi.hu/esemeny/volt-ovis-talalkozo/
END:VEVENT
BEGIN:VEVENT
DTSTART;TZID=Europe/Budapest:20250323T160000
DTEND;TZID=Europe/Budapest:20250323T170000
DTSTAMP:20260426T030930
CREATED:20250321T132007Z
LAST-MODIFIED:20250321T132007Z
UID:3943-1742745600-1742749200@evangelikusovi.hu
SUMMARY:Gyermek Istentisztelet
DESCRIPTION:
URL:https://evangelikusovi.hu/esemeny/gyermek-istentisztelet-32/
END:VEVENT
BEGIN:VEVENT
DTSTART;TZID=Europe/Budapest:20250314T090000
DTEND;TZID=Europe/Budapest:20250314T110000
DTSTAMP:20260426T030930
CREATED:20250312T064820Z
LAST-MODIFIED:20250312T064820Z
UID:3926-1741942800-1741950000@evangelikusovi.hu
SUMMARY:Március 15. Ünnepség
DESCRIPTION:
URL:https://evangelikusovi.hu/esemeny/marcius-15-unnepseg/
END:VEVENT
BEGIN:VEVENT
DTSTART;TZID=Europe/Budapest:20250219T090000
DTEND;TZID=Europe/Budapest:20250219T113000
DTSTAMP:20260426T030930
CREATED:20250206T100323Z
LAST-MODIFIED:20250206T100323Z
UID:3895-1739955600-1739964600@evangelikusovi.hu
SUMMARY:Nyílt nap
DESCRIPTION:
URL:https://evangelikusovi.hu/esemeny/nyilt-nap-4/
END:VEVENT
BEGIN:VEVENT
DTSTART;TZID=Europe/Budapest:20250218T090000
DTEND;TZID=Europe/Budapest:20250218T113000
DTSTAMP:20260426T030930
CREATED:20250206T100244Z
LAST-MODIFIED:20250206T100244Z
UID:3893-1739869200-1739878200@evangelikusovi.hu
SUMMARY:Nyílt nap
DESCRIPTION:
URL:https://evangelikusovi.hu/esemeny/nyilt-nap-3/
END:VEVENT
BEGIN:VEVENT
DTSTART;VALUE=DATE:20250214
DTEND;VALUE=DATE:20250215
DTSTAMP:20260426T030930
CREATED:20250207T130911Z
LAST-MODIFIED:20250207T130911Z
UID:3908-1739491200-1739577599@evangelikusovi.hu
SUMMARY:Nevelés nélküli munkanap
DESCRIPTION:Kedves Szülők! \n2025.február 14-én\, pénteken\, nevelés nélküli munkanapot tartunk.\nEzen a napon kérjük\, gondoskodjatok a gyermek(ek) elhelyezéséről\, mivel óvodánk zárva lesz! \nMEGÉRTÉSETEKET ELŐRE IS KÖSZÖNJÜK. \nGallai Tamás\nóvodavezető
URL:https://evangelikusovi.hu/esemeny/neveles-nelkuli-munkanap-15/
END:VEVENT
BEGIN:VEVENT
DTSTART;TZID=Europe/Budapest:20250209T100000
DTEND;TZID=Europe/Budapest:20250209T110000
DTSTAMP:20260426T030930
CREATED:20250205T125538Z
LAST-MODIFIED:20250205T125538Z
UID:3888-1739095200-1739098800@evangelikusovi.hu
SUMMARY:Családi Istentisztelet
DESCRIPTION:Kedves Szülők! \n  \nSzeretettel hívunk minden ovis családot \na vasárnap (február 09-én) délelőtt 10 órától kezdődő \ncsaládi istentiszteletre\,  \namely egyben bakancsos istentisztelet is https://szentendre.lutheran.hu/ \namelyet templomunkban tartunk. \nIstentiszteletünkön \nRosa Lutheri Együttes szolgál. \n  \naz óvoda vezetősége és lelkésze
URL:https://evangelikusovi.hu/esemeny/csaladi-istentisztelet-23/
CATEGORIES:Hitélet
END:VEVENT
BEGIN:VEVENT
DTSTART;TZID=Europe/Budapest:20250126T160000
DTEND;TZID=Europe/Budapest:20250126T170000
DTSTAMP:20260426T030930
CREATED:20250124T071031Z
LAST-MODIFIED:20250124T071031Z
UID:3881-1737907200-1737910800@evangelikusovi.hu
SUMMARY:Gyermek Istentisztelet
DESCRIPTION:
URL:https://evangelikusovi.hu/esemeny/gyermek-istentisztelet-31/
END:VEVENT
BEGIN:VEVENT
DTSTART;TZID=Europe/Budapest:20250123T170000
DTEND;TZID=Europe/Budapest:20250123T183000
DTSTAMP:20260426T030930
CREATED:20250114T052258Z
LAST-MODIFIED:20250114T052258Z
UID:3865-1737651600-1737657000@evangelikusovi.hu
SUMMARY:Szülői értekezlet
DESCRIPTION: 
URL:https://evangelikusovi.hu/esemeny/szuloi-ertekezlet-8/
END:VEVENT
BEGIN:VEVENT
DTSTART;TZID=Europe/Budapest:20250112T100000
DTEND;TZID=Europe/Budapest:20250112T110000
DTSTAMP:20260426T030930
CREATED:20250110T125843Z
LAST-MODIFIED:20250110T125843Z
UID:3857-1736676000-1736679600@evangelikusovi.hu
SUMMARY:Családi Istentisztelet
DESCRIPTION:
URL:https://evangelikusovi.hu/esemeny/csaladi-istentisztelet-22/
END:VEVENT
BEGIN:VEVENT
DTSTART;TZID=Europe/Budapest:20250110T083000
DTEND;TZID=Europe/Budapest:20250110T113000
DTSTAMP:20260426T030930
CREATED:20250109T065202Z
LAST-MODIFIED:20250109T065202Z
UID:3850-1736497800-1736508600@evangelikusovi.hu
SUMMARY:Keresztszülők napja
DESCRIPTION:  \n \n  \n 
URL:https://evangelikusovi.hu/esemeny/keresztszulok-napja-4/
CATEGORIES:Hitélet
END:VEVENT
BEGIN:VEVENT
DTSTART;TZID=Europe/Budapest:20250106T091500
DTEND;TZID=Europe/Budapest:20250106T091500
DTSTAMP:20260426T030930
CREATED:20250105T071120Z
LAST-MODIFIED:20250105T071120Z
UID:3839-1736154900-1736154900@evangelikusovi.hu
SUMMARY:Vízkereszt
DESCRIPTION:Kedves Szülők!  \n2025. Január 6-án hétfőn Vízkereszt \nalkalmából délelőtt a gyerekekkel részt veszünk a város óvodásainak közös vízkereszti éneklésén a Fő téren\, indulás 9:15 órakor az óvodából. \nA kiscsoportos gyerekek az óvodában maradnak. \nEzen a napon kérjük\, hogy a gyermekek 8:30-ig érkezzenek meg az óvodába. \nKöszönjük az óvoda munkatársai \n  \n  \n  \n  \n  \n 
URL:https://evangelikusovi.hu/esemeny/vizkereszt/
END:VEVENT
BEGIN:VEVENT
DTSTART;TZID=Europe/Budapest:20241221T080000
DTEND;TZID=Europe/Budapest:20250101T170000
DTSTAMP:20260426T030930
CREATED:20241126T194128Z
LAST-MODIFIED:20241204T053728Z
UID:3810-1734768000-1735750800@evangelikusovi.hu
SUMMARY:Téli szünet - az óvoda zárva tart
DESCRIPTION:
URL:https://evangelikusovi.hu/esemeny/teli-szunet-az-ovoda-zarva-tart-2/
END:VEVENT
BEGIN:VEVENT
DTSTART;VALUE=DATE:20241220
DTEND;VALUE=DATE:20241221
DTSTAMP:20260426T030930
CREATED:20241126T193304Z
LAST-MODIFIED:20241126T193304Z
UID:3808-1734652800-1734739199@evangelikusovi.hu
SUMMARY:Nevelés nélküli munkanap
DESCRIPTION:
URL:https://evangelikusovi.hu/esemeny/neveles-nelkuli-munkanap-14/
END:VEVENT
BEGIN:VEVENT
DTSTART;TZID=Europe/Budapest:20241218T170000
DTEND;TZID=Europe/Budapest:20241218T180000
DTSTAMP:20260426T030930
CREATED:20241126T193147Z
LAST-MODIFIED:20241126T193147Z
UID:3805-1734541200-1734544800@evangelikusovi.hu
SUMMARY:Karácsony a templomban – Betlehemes játék
DESCRIPTION:
URL:https://evangelikusovi.hu/esemeny/karacsony-a-templomban-betlehemes-jatek/
END:VEVENT
BEGIN:VEVENT
DTSTART;TZID=Europe/Budapest:20241210T153000
DTEND;TZID=Europe/Budapest:20241210T173000
DTSTAMP:20260426T030930
CREATED:20241126T191313Z
LAST-MODIFIED:20241126T191313Z
UID:3799-1733844600-1733851800@evangelikusovi.hu
SUMMARY:Adventi barkácsdélután
DESCRIPTION:
URL:https://evangelikusovi.hu/esemeny/adventi-barkacsdelutan-4/
END:VEVENT
BEGIN:VEVENT
DTSTART;TZID=Europe/Budapest:20241208T100000
DTEND;TZID=Europe/Budapest:20241208T110000
DTSTAMP:20260426T030930
CREATED:20241126T191023Z
LAST-MODIFIED:20241126T191023Z
UID:3797-1733652000-1733655600@evangelikusovi.hu
SUMMARY:Családi Istentisztelet
DESCRIPTION:
URL:https://evangelikusovi.hu/esemeny/csaladi-istentisztelet-21/
END:VEVENT
BEGIN:VEVENT
DTSTART;TZID=Europe/Budapest:20241207T160000
DTEND;TZID=Europe/Budapest:20241207T190000
DTSTAMP:20260426T030930
CREATED:20241206T051117Z
LAST-MODIFIED:20241206T051654Z
UID:3824-1733587200-1733598000@evangelikusovi.hu
SUMMARY:Adventi barkácsdélután gyülekezeti termünkben.
DESCRIPTION:Ó jöjj\, ó jöjj\, Üdvözítő\, beteljesült már az idő…” \n  \nKedves Testvérek! \nDecember 7-én\, 16 órától 19 óráig szeretettel várunk kicsiket és nagyokat\, családjainkat adventi barkácsdélutánra \na gyülekezeti termünkbe\, ahol szebbnél szebb díszeket készíthetünk különféle technikákkal a templomi és az otthoni karácsonyfára is. \nIsten áldása legyen együttlétünkön! \nÁldott ádventi készülődést! \nTestvéri szeretettel\,                   Horváth-Hegyi Olivér
URL:https://evangelikusovi.hu/esemeny/3824/
END:VEVENT
BEGIN:VEVENT
DTSTART;TZID=Europe/Budapest:20241205T100000
DTEND;TZID=Europe/Budapest:20241205T113000
DTSTAMP:20260426T030930
CREATED:20241126T190839Z
LAST-MODIFIED:20241126T190839Z
UID:3795-1733392800-1733398200@evangelikusovi.hu
SUMMARY:Mikulás érkezése
DESCRIPTION:
URL:https://evangelikusovi.hu/esemeny/mikulas-erkezese/
END:VEVENT
BEGIN:VEVENT
DTSTART;TZID=Europe/Budapest:20241124T160000
DTEND;TZID=Europe/Budapest:20241124T170000
DTSTAMP:20260426T030930
CREATED:20241119T193118Z
LAST-MODIFIED:20241119T193118Z
UID:3728-1732464000-1732467600@evangelikusovi.hu
SUMMARY:Gyermek Istentisztelet
DESCRIPTION:Kedves Szülők! \nSzeretettel hívunk minden ovis családot\, (november 24-én) vasárnap 16 órától kezdődő gyermek istentiszteletre. Ezen alkalmon a Bárányka csoport szolgál. \nÓvoda munkatársai és lelkésze
URL:https://evangelikusovi.hu/esemeny/gyermek-istentisztelet-30/
CATEGORIES:Hitélet
END:VEVENT
END:VCALENDAR