BEGIN:VCALENDAR
VERSION:2.0
PRODID:-//Szentendrei Evangélikus Zenei Óvoda - ECPv6.5.2//NONSGML v1.0//EN
CALSCALE:GREGORIAN
METHOD:PUBLISH
X-WR-CALNAME:Szentendrei Evangélikus Zenei Óvoda
X-ORIGINAL-URL:https://evangelikusovi.hu
X-WR-CALDESC:Events for Szentendrei Evangélikus Zenei Óvoda
REFRESH-INTERVAL;VALUE=DURATION:PT1H
X-Robots-Tag:noindex
X-PUBLISHED-TTL:PT1H
BEGIN:VTIMEZONE
TZID:Europe/Budapest
BEGIN:DAYLIGHT
TZOFFSETFROM:+0100
TZOFFSETTO:+0200
TZNAME:CEST
DTSTART:20230326T010000
END:DAYLIGHT
BEGIN:STANDARD
TZOFFSETFROM:+0200
TZOFFSETTO:+0100
TZNAME:CET
DTSTART:20231029T010000
END:STANDARD
BEGIN:DAYLIGHT
TZOFFSETFROM:+0100
TZOFFSETTO:+0200
TZNAME:CEST
DTSTART:20240331T010000
END:DAYLIGHT
BEGIN:STANDARD
TZOFFSETFROM:+0200
TZOFFSETTO:+0100
TZNAME:CET
DTSTART:20241027T010000
END:STANDARD
END:VTIMEZONE
BEGIN:VEVENT
DTSTART;TZID=Europe/Budapest:20240922T160000
DTEND;TZID=Europe/Budapest:20240922T170000
DTSTAMP:20260426T060617
CREATED:20240915T193211Z
LAST-MODIFIED:20240915T193211Z
UID:3688-1727020800-1727024400@evangelikusovi.hu
SUMMARY:Gyermek Istentisztelet
DESCRIPTION:
URL:https://evangelikusovi.hu/esemeny/gyermek-istentisztelet-28/
END:VEVENT
BEGIN:VEVENT
DTSTART;TZID=Europe/Budapest:20240912T170000
DTEND;TZID=Europe/Budapest:20240912T180000
DTSTAMP:20260426T060617
CREATED:20240909T121116Z
LAST-MODIFIED:20240909T121116Z
UID:3672-1726160400-1726164000@evangelikusovi.hu
SUMMARY:Szülői értekezlet
DESCRIPTION:Kedves Szülők! \nSzülői értekezletet tartunk \n2024. szeptember 12-én (csütörtökön) 17 órakor. \nAlkalmunkat közösen kezdjük. Jó idő esetén az udvaron\, eső esetén a tornateremben\, majd ezt követően csoportonként tartjuk beszélgetéseinket. \nKérjük\, hogy erre az alkalomra a gyermekek elhelyezését legyetek szívesek megoldani! \nMegértéseteket köszönjük! \nMinden kedves Szülőt szeretettel várunk: \nAz óvoda munkatársai \n  \n  \n  \n  \n  \n  \n 
URL:https://evangelikusovi.hu/esemeny/szuloi-ertekezlet-7/
END:VEVENT
BEGIN:VEVENT
DTSTART;TZID=Europe/Budapest:20240908T100000
DTEND;TZID=Europe/Budapest:20240908T110000
DTSTAMP:20260426T060617
CREATED:20240903T182037Z
LAST-MODIFIED:20240903T182037Z
UID:3662-1725789600-1725793200@evangelikusovi.hu
SUMMARY:Családi Istentisztelet
DESCRIPTION:Kedves Szülők! \nSzeretettel hívunk minden ovis családot\na vasárnap (szeptember 8-án)\ndélelőtt 10 órától kezdődő \ncsaládi istentiszteletünkre\,\namelyet templomunkban tartunk. \nIstentiszteletünkön a Rosa Lutheri Együttes szolgál.\nVendégigehirdetőnk Dr. Fabiny Tamás\, püspök\, aki \ntemplomszentelési emlékünnepünk \n20. évfordulója alkalmából látogat el hozzánk.
URL:https://evangelikusovi.hu/esemeny/csaladi-istentisztelet-18/
CATEGORIES:Hitélet
END:VEVENT
BEGIN:VEVENT
DTSTART;TZID=Europe/Budapest:20240901T160000
DTEND;TZID=Europe/Budapest:20240901T170000
DTSTAMP:20260426T060617
CREATED:20240820T184407Z
LAST-MODIFIED:20240826T081919Z
UID:3649-1725206400-1725210000@evangelikusovi.hu
SUMMARY:Évnyitó Istentisztelet
DESCRIPTION:Kedves Szülők! \nSzeretettel hívjuk és várjuk minden kedves Családunkat\, szeptember 01. vasárnap 16 órára a templomunkba tartandó évnyitó Istentiszteletünkre. \n2000 Szentendre\, Luther tér 1. \nErős vár a mi Istenünk \n 
URL:https://evangelikusovi.hu/esemeny/tanevnyito-istentisztelet/
END:VEVENT
BEGIN:VEVENT
DTSTART;TZID=Europe/Budapest:20240526T160000
DTEND;TZID=Europe/Budapest:20240526T170000
DTSTAMP:20260426T060617
CREATED:20240523T115921Z
LAST-MODIFIED:20240523T120005Z
UID:3640-1716739200-1716742800@evangelikusovi.hu
SUMMARY:Gyermek Istentisztelet
DESCRIPTION:Kedves Szülők! \nEzen a héten vasárnap (május 26.)\ndélután 16 órakor\nGyermek Istentisztelet lesz.\nTémánk: „Isten ajándéka a gyermek\,\naz anyaméh gyümölcse jutalom.” Zsolt 127\,3\nEzen az alkalmon a Bárányka csoport szolgál. \nSzeretettel hívunk és várunk Titeket!\nA gyermekek számára készített finomságokat\, gyümölcsöt\nszívesen fogadjuk. \nÓvoda dolgozói és lelkésze
URL:https://evangelikusovi.hu/esemeny/3640/
CATEGORIES:Hitélet
END:VEVENT
BEGIN:VEVENT
DTSTART;TZID=Europe/Budapest:20240517T090000
DTEND;TZID=Europe/Budapest:20240517T113000
DTSTAMP:20260426T060617
CREATED:20240510T032048Z
LAST-MODIFIED:20240510T032048Z
UID:3636-1715936400-1715945400@evangelikusovi.hu
SUMMARY:Nagyszülők napja
DESCRIPTION:Sok szeretettel várjuk a nagymamákat és nagypapákat\, hogy ezt a délelőttöt együtt tölthessék unokáikkal.
URL:https://evangelikusovi.hu/esemeny/nagyszulok-napja-3/
END:VEVENT
BEGIN:VEVENT
DTSTART;TZID=Europe/Budapest:20240512T100000
DTEND;TZID=Europe/Budapest:20240512T110000
DTSTAMP:20260426T060617
CREATED:20240507T182020Z
LAST-MODIFIED:20240507T182020Z
UID:3630-1715508000-1715511600@evangelikusovi.hu
SUMMARY:Családi Istentisztelet
DESCRIPTION:
URL:https://evangelikusovi.hu/esemeny/csaladi-istentisztelet-17/
END:VEVENT
BEGIN:VEVENT
DTSTART;TZID=Europe/Budapest:20240428T160000
DTEND;TZID=Europe/Budapest:20240428T170000
DTSTAMP:20260426T060617
CREATED:20240424T041915Z
LAST-MODIFIED:20240424T041915Z
UID:3619-1714320000-1714323600@evangelikusovi.hu
SUMMARY:Gyermek Istentisztelet
DESCRIPTION: 
URL:https://evangelikusovi.hu/esemeny/gyermek-istentisztelet-27/
END:VEVENT
BEGIN:VEVENT
DTSTART;VALUE=DATE:20240426
DTEND;VALUE=DATE:20240427
DTSTAMP:20260426T060617
CREATED:20240424T042242Z
LAST-MODIFIED:20240424T042316Z
UID:3621-1714089600-1714175999@evangelikusovi.hu
SUMMARY:Nevelés nélküli munkanap
DESCRIPTION:Kedves Szülők! \n2024.április 26-án\, \npénteken\, nevelés nélküli munkanapot tartunk. \nEzen a napon kérjük\, gondoskodjatok a gyermek(ek) elhelyezéséről\, mivel \nóvodánk zárva lesz! \nMEGÉRTÉSETEKET ELŐRE IS KÖSZÖNJÜK. \nCsesznák Éva \nóvodavezető \n  \n  \n 
URL:https://evangelikusovi.hu/esemeny/neveles-nelkuli-munkanap-12/
END:VEVENT
BEGIN:VEVENT
DTSTART;TZID=Europe/Budapest:20240324T160000
DTEND;TZID=Europe/Budapest:20240324T170000
DTSTAMP:20260426T060617
CREATED:20240219T165143Z
LAST-MODIFIED:20240219T165143Z
UID:3562-1711296000-1711299600@evangelikusovi.hu
SUMMARY:Gyermek Istentisztelet\, Virágvasárnap
DESCRIPTION:
URL:https://evangelikusovi.hu/esemeny/gyermek-istentisztelet-viragvasarnap/
END:VEVENT
BEGIN:VEVENT
DTSTART;TZID=Europe/Budapest:20240310T100000
DTEND;TZID=Europe/Budapest:20240310T110000
DTSTAMP:20260426T060617
CREATED:20240219T164301Z
LAST-MODIFIED:20240219T164301Z
UID:3557-1710064800-1710068400@evangelikusovi.hu
SUMMARY:Családi istentisztelet
DESCRIPTION:
URL:https://evangelikusovi.hu/esemeny/csaladi-istentisztelet-16/
END:VEVENT
BEGIN:VEVENT
DTSTART;TZID=Europe/Budapest:20240225T160000
DTEND;TZID=Europe/Budapest:20240225T170000
DTSTAMP:20260426T060617
CREATED:20240117T183817Z
LAST-MODIFIED:20240220T184739Z
UID:3436-1708876800-1708880400@evangelikusovi.hu
SUMMARY:Nyílt Gyermek Istentisztelet
DESCRIPTION:2024. február 25-én (vasárnap) délután 16 órakor nyílt Gyermek Istentiszteletet tartunk\, \nerre az alkalomra szeretettel várjuk leendő ovisainkat és szüleiket\, ahol mélyebb bepillantást nyerhetnek óvodásaink lelki életébe. \nEzen az alkalmon a Bárányka csoport szolgál. \nTörténet: Elveszett juh története \nTéma: Öröm \nHelye: szentendrei evangélikus templom (2000 Szentendre\, Luther tér 1.)\nEzen eseményre szeretettel várjuk leendő családjainkat is.
URL:https://evangelikusovi.hu/esemeny/nyilt-gyermek-istentisztelet/
END:VEVENT
BEGIN:VEVENT
DTSTART;TZID=Europe/Budapest:20240221T090000
DTEND;TZID=Europe/Budapest:20240221T110000
DTSTAMP:20260426T060617
CREATED:20240219T163139Z
LAST-MODIFIED:20240219T163139Z
UID:3555-1708506000-1708513200@evangelikusovi.hu
SUMMARY:Nyílt napok
DESCRIPTION:Kedves érdeklődő Családok! \n2024. február 20-21-én délelőtt 9 -11 óráig nyílt napot tartunk. További információt a 06203916540 es telefonszámon tudunk adni. \n2000 Szentendre\, Pannónia u. 40. \nMinden érdeklődő családot szeretettel várunk!
URL:https://evangelikusovi.hu/esemeny/nyilt-napok-2/
END:VEVENT
BEGIN:VEVENT
DTSTART;TZID=Europe/Budapest:20240220T090000
DTEND;TZID=Europe/Budapest:20240220T110000
DTSTAMP:20260426T060617
CREATED:20240117T183636Z
LAST-MODIFIED:20240219T163031Z
UID:3433-1708419600-1708426800@evangelikusovi.hu
SUMMARY:Nyílt napok
DESCRIPTION:Kedves érdeklődő Családok! \n2024. február 20-21-én délelőtt 9 -11 óráig nyílt napot tartunk. További információt a 06203916540 es telefonszámon tudunk adni. \n2000 Szentendre\, Pannónia u. 40. \nMinden érdeklődő családot szeretettel várunk!
URL:https://evangelikusovi.hu/esemeny/nyilt-napok/
END:VEVENT
BEGIN:VEVENT
DTSTART;VALUE=DATE:20240216
DTEND;VALUE=DATE:20240217
DTSTAMP:20260426T060617
CREATED:20240117T183244Z
LAST-MODIFIED:20240117T183244Z
UID:3431-1708041600-1708127999@evangelikusovi.hu
SUMMARY:Nevelés nélküli munkanap
DESCRIPTION:
URL:https://evangelikusovi.hu/esemeny/neveles-nelkuli-munkanap-11/
END:VEVENT
BEGIN:VEVENT
DTSTART;TZID=Europe/Budapest:20240211T100000
DTEND;TZID=Europe/Budapest:20240211T110000
DTSTAMP:20260426T060617
CREATED:20240117T183148Z
LAST-MODIFIED:20240117T183148Z
UID:3429-1707645600-1707649200@evangelikusovi.hu
SUMMARY:Családi Istentisztelet
DESCRIPTION:
URL:https://evangelikusovi.hu/esemeny/csaladi-istentisztelet-15/
END:VEVENT
BEGIN:VEVENT
DTSTART;TZID=Europe/Budapest:20240210T190000
DTEND;TZID=Europe/Budapest:20240210T190000
DTSTAMP:20260426T060617
CREATED:20240117T063324Z
LAST-MODIFIED:20240117T063324Z
UID:3409-1707591600-1707591600@evangelikusovi.hu
SUMMARY:Szülői Bál
DESCRIPTION:
URL:https://evangelikusovi.hu/esemeny/szuloi-bal/
ATTACH;FMTTYPE=image/jpeg:https://evangelikusovi.hu/wp-content/uploads/2024/01/meghivo-scaled.jpg
END:VEVENT
BEGIN:VEVENT
DTSTART;VALUE=DATE:20240202
DTEND;VALUE=DATE:20240203
DTSTAMP:20260426T060617
CREATED:20240117T182807Z
LAST-MODIFIED:20240117T182807Z
UID:3426-1706832000-1706918399@evangelikusovi.hu
SUMMARY:Farsangi mulatság
DESCRIPTION:
URL:https://evangelikusovi.hu/esemeny/farsangi-mulatsag/
END:VEVENT
BEGIN:VEVENT
DTSTART;TZID=Europe/Budapest:20240128T160000
DTEND;TZID=Europe/Budapest:20240128T170000
DTSTAMP:20260426T060617
CREATED:20240104T212054Z
LAST-MODIFIED:20240117T185332Z
UID:3393-1706457600-1706461200@evangelikusovi.hu
SUMMARY:Gyermek Istentisztelet
DESCRIPTION:Kedves Szülők! \nEzen a héten vasárnap (január 28.) délután 16 órakor\, Gyermek Istentisztelet lesz. \nSzeretettel hívunk\, és várunk Titeket!
URL:https://evangelikusovi.hu/esemeny/csaladi-istentisztelet-13/
END:VEVENT
BEGIN:VEVENT
DTSTART;TZID=Europe/Budapest:20240118T170000
DTEND;TZID=Europe/Budapest:20240118T180000
DTSTAMP:20260426T060617
CREATED:20240116T195729Z
LAST-MODIFIED:20240116T195729Z
UID:3401-1705597200-1705600800@evangelikusovi.hu
SUMMARY:Szülői értekezlet
DESCRIPTION:Kedves Szülők! \nSzülői értekezletet tartunk \n2024. január 18-án (csütörtökön) 17 órakor. \nAlkalmunkat közösen kezdjük a tornateremben\, majd ezt követően csoportonként tartjuk beszélgetéseinket. \nKérjük\, hogy erre az alkalomra a gyermekek elhelyezését legyetek szívesek megoldani! \nMegértéseteket köszönjük! \nMinden kedves Szülőt szeretettel várunk: \nAz óvoda munkatársai \n  \n  \n  \n  \n  \n  \n 
URL:https://evangelikusovi.hu/esemeny/szuloi-ertekezlet-6/
END:VEVENT
BEGIN:VEVENT
DTSTART;TZID=Europe/Budapest:20240114T100000
DTEND;TZID=Europe/Budapest:20240114T110000
DTSTAMP:20260426T060617
CREATED:20240104T212553Z
LAST-MODIFIED:20240104T212553Z
UID:3397-1705226400-1705230000@evangelikusovi.hu
SUMMARY:Családi istentisztelet
DESCRIPTION:
URL:https://evangelikusovi.hu/esemeny/csaladi-istentisztelet-14/
END:VEVENT
BEGIN:VEVENT
DTSTART;TZID=Europe/Budapest:20240112T090000
DTEND;TZID=Europe/Budapest:20240112T113000
DTSTAMP:20260426T060617
CREATED:20240104T211621Z
LAST-MODIFIED:20240104T211621Z
UID:3391-1705050000-1705059000@evangelikusovi.hu
SUMMARY:Keresztszülők napja
DESCRIPTION:
URL:https://evangelikusovi.hu/esemeny/keresztszulok-napja-3/
END:VEVENT
BEGIN:VEVENT
DTSTART;VALUE=DATE:20231221
DTEND;VALUE=DATE:20231222
DTSTAMP:20260426T060617
CREATED:20231211T094739Z
LAST-MODIFIED:20231211T094739Z
UID:3330-1703116800-1703203199@evangelikusovi.hu
SUMMARY:Nevelés nélküli munkanap
DESCRIPTION:Kedves Szülők! \n2023 december 21-én csütörtökön\, nevelés nélküli munkanapot tartunk. \nMegértéseteket előre is köszönjük.
URL:https://evangelikusovi.hu/esemeny/neveles-nelkuli-munkanap-10/
END:VEVENT
BEGIN:VEVENT
DTSTART;TZID=Europe/Budapest:20231219T170000
DTEND;TZID=Europe/Budapest:20231219T180000
DTSTAMP:20260426T060617
CREATED:20231215T122421Z
LAST-MODIFIED:20231215T122421Z
UID:3332-1703005200-1703008800@evangelikusovi.hu
SUMMARY:Családi karácsony áhitat
DESCRIPTION:Kedves Szülők! \nSzeretettel hívunk és várunk mindenkit családi karácsonyi áhítatunkra\, melyet \n 2023. december 19-én kedden\, délután 17 órakor tartunk \na  Szentendrei Evangélikus Templomban
URL:https://evangelikusovi.hu/esemeny/csaladi-karacsony-ahitat/
END:VEVENT
BEGIN:VEVENT
DTSTART;TZID=Europe/Budapest:20231212T150000
DTEND;TZID=Europe/Budapest:20231212T170000
DTSTAMP:20260426T060617
CREATED:20231211T094215Z
LAST-MODIFIED:20231211T094215Z
UID:3325-1702393200-1702400400@evangelikusovi.hu
SUMMARY:Adventi Barkacsdélután
DESCRIPTION:
URL:https://evangelikusovi.hu/esemeny/adventi-barkacsdelutan-3/
END:VEVENT
BEGIN:VEVENT
DTSTART;TZID=Europe/Budapest:20231126T160000
DTEND;TZID=Europe/Budapest:20231126T170000
DTSTAMP:20260426T060617
CREATED:20231120T123606Z
LAST-MODIFIED:20231120T123606Z
UID:3315-1701014400-1701018000@evangelikusovi.hu
SUMMARY:Gyermek Istentisztelet
DESCRIPTION:
URL:https://evangelikusovi.hu/esemeny/gyermek-istentisztelet-25/
END:VEVENT
BEGIN:VEVENT
DTSTART;TZID=Europe/Budapest:20231112T100000
DTEND;TZID=Europe/Budapest:20231112T110000
DTSTAMP:20260426T060617
CREATED:20231107T171833Z
LAST-MODIFIED:20231107T171833Z
UID:3311-1699783200-1699786800@evangelikusovi.hu
SUMMARY:Családi Istentisztelet
DESCRIPTION:Kedves Szülők! \nSzeretettel hívunk minden ovis családot \na vasárnap (november 12-én) délelőtt 10 órától kezdődő \ncsaládi istentiszteletre\,  \namelyet templomunkban tartunk. \nIstentiszteletünkön \nRosa Lutheri Együttes szolgál.
URL:https://evangelikusovi.hu/esemeny/csaladi-istentisztelet-12/
END:VEVENT
BEGIN:VEVENT
DTSTART;TZID=Europe/Budapest:20231022T160000
DTEND;TZID=Europe/Budapest:20231022T170000
DTSTAMP:20260426T060617
CREATED:20231018T074225Z
LAST-MODIFIED:20231018T074225Z
UID:3303-1697990400-1697994000@evangelikusovi.hu
SUMMARY:Gyermek Istentisztelet
DESCRIPTION:
URL:https://evangelikusovi.hu/esemeny/gyermek-istentisztelet-26/
END:VEVENT
BEGIN:VEVENT
DTSTART;TZID=Europe/Budapest:20231008T100000
DTEND;TZID=Europe/Budapest:20231008T110000
DTSTAMP:20260426T060617
CREATED:20230914T191829Z
LAST-MODIFIED:20230914T191829Z
UID:3289-1696759200-1696762800@evangelikusovi.hu
SUMMARY:Családi Istentisztelet
DESCRIPTION:
URL:https://evangelikusovi.hu/esemeny/csaladi-istentisztelet-10/
END:VEVENT
BEGIN:VEVENT
DTSTART;TZID=Europe/Budapest:20231001T100000
DTEND;TZID=Europe/Budapest:20231001T110000
DTSTAMP:20260426T060617
CREATED:20230928T044019Z
LAST-MODIFIED:20230928T044019Z
UID:3295-1696154400-1696158000@evangelikusovi.hu
SUMMARY:Családi Istentisztelet
DESCRIPTION:
URL:https://evangelikusovi.hu/esemeny/csaladi-istentisztelet-11/
END:VEVENT
END:VCALENDAR