BEGIN:VCALENDAR
VERSION:2.0
PRODID:-//Szentendrei Evangélikus Zenei Óvoda - ECPv6.5.2//NONSGML v1.0//EN
CALSCALE:GREGORIAN
METHOD:PUBLISH
X-WR-CALNAME:Szentendrei Evangélikus Zenei Óvoda
X-ORIGINAL-URL:https://evangelikusovi.hu
X-WR-CALDESC:Events for Szentendrei Evangélikus Zenei Óvoda
REFRESH-INTERVAL;VALUE=DURATION:PT1H
X-Robots-Tag:noindex
X-PUBLISHED-TTL:PT1H
BEGIN:VTIMEZONE
TZID:Europe/Budapest
BEGIN:DAYLIGHT
TZOFFSETFROM:+0100
TZOFFSETTO:+0200
TZNAME:CEST
DTSTART:20200329T010000
END:DAYLIGHT
BEGIN:STANDARD
TZOFFSETFROM:+0200
TZOFFSETTO:+0100
TZNAME:CET
DTSTART:20201025T010000
END:STANDARD
BEGIN:DAYLIGHT
TZOFFSETFROM:+0100
TZOFFSETTO:+0200
TZNAME:CEST
DTSTART:20210328T010000
END:DAYLIGHT
BEGIN:STANDARD
TZOFFSETFROM:+0200
TZOFFSETTO:+0100
TZNAME:CET
DTSTART:20211031T010000
END:STANDARD
END:VTIMEZONE
BEGIN:VEVENT
DTSTART;VALUE=DATE:20200510
DTEND;VALUE=DATE:20200511
DTSTAMP:20260426T051424
CREATED:20200216T202532Z
LAST-MODIFIED:20200216T202532Z
UID:2018-1589068800-1589155199@evangelikusovi.hu
SUMMARY:Gyermek-Istentisztelet
DESCRIPTION:
URL:https://evangelikusovi.hu/esemeny/gyermek-istentisztelet-8/
END:VEVENT
BEGIN:VEVENT
DTSTART;VALUE=DATE:20200519
DTEND;VALUE=DATE:20200522
DTSTAMP:20260426T051424
CREATED:20200216T202624Z
LAST-MODIFIED:20200216T202624Z
UID:2020-1589846400-1590105599@evangelikusovi.hu
SUMMARY:Évzáró
DESCRIPTION:
URL:https://evangelikusovi.hu/esemeny/evzaro/
END:VEVENT
BEGIN:VEVENT
DTSTART;VALUE=DATE:20200523
DTEND;VALUE=DATE:20200524
DTSTAMP:20260426T051424
CREATED:20200216T202703Z
LAST-MODIFIED:20200216T202703Z
UID:2022-1590192000-1590278399@evangelikusovi.hu
SUMMARY:Apanap - családi nap táncházzal óvodán kívül
DESCRIPTION:
URL:https://evangelikusovi.hu/esemeny/apanap-csaladi-nap-tanchazzal-ovodan-kivul/
END:VEVENT
BEGIN:VEVENT
DTSTART;VALUE=DATE:20200524
DTEND;VALUE=DATE:20200525
DTSTAMP:20260426T051424
CREATED:20200216T202758Z
LAST-MODIFIED:20200216T202758Z
UID:2024-1590278400-1590364799@evangelikusovi.hu
SUMMARY:Gyermek-Istentisztelet
DESCRIPTION:
URL:https://evangelikusovi.hu/esemeny/gyermek-istentisztelet-9/
END:VEVENT
BEGIN:VEVENT
DTSTART;VALUE=DATE:20200528
DTEND;VALUE=DATE:20200529
DTSTAMP:20260426T051424
CREATED:20200216T202831Z
LAST-MODIFIED:20200216T202831Z
UID:2026-1590624000-1590710399@evangelikusovi.hu
SUMMARY:Pünkösdi bibliakör a templomban
DESCRIPTION:
URL:https://evangelikusovi.hu/esemeny/punkosdi-bibliakor-a-templomban/
END:VEVENT
BEGIN:VEVENT
DTSTART;VALUE=DATE:20200531
DTEND;VALUE=DATE:20200602
DTSTAMP:20260426T051424
CREATED:20200216T202927Z
LAST-MODIFIED:20200216T202927Z
UID:2028-1590883200-1591055999@evangelikusovi.hu
SUMMARY:Pünkösd
DESCRIPTION:
URL:https://evangelikusovi.hu/esemeny/punkosd/
END:VEVENT
BEGIN:VEVENT
DTSTART;VALUE=DATE:20200611
DTEND;VALUE=DATE:20200612
DTSTAMP:20260426T051424
CREATED:20200216T203010Z
LAST-MODIFIED:20200216T203010Z
UID:2030-1591833600-1591919999@evangelikusovi.hu
SUMMARY:Szülői értekezlet az új gyermekek szüleinek
DESCRIPTION:
URL:https://evangelikusovi.hu/esemeny/szuloi-ertekezlet-az-uj-gyermekek-szuleinek/
END:VEVENT
BEGIN:VEVENT
DTSTART;VALUE=DATE:20200612
DTEND;VALUE=DATE:20200613
DTSTAMP:20260426T051424
CREATED:20200216T203108Z
LAST-MODIFIED:20200216T203108Z
UID:2032-1591920000-1592006399@evangelikusovi.hu
SUMMARY:Nevelés nélküli munkanap - évzárás
DESCRIPTION:
URL:https://evangelikusovi.hu/esemeny/neveles-nelkuli-munkanap-evzaras/
END:VEVENT
BEGIN:VEVENT
DTSTART;VALUE=DATE:20200614
DTEND;VALUE=DATE:20200615
DTSTAMP:20260426T051424
CREATED:20200216T203533Z
LAST-MODIFIED:20200216T203533Z
UID:2034-1592092800-1592179199@evangelikusovi.hu
SUMMARY:Tanévzáró gyermek-istentisztelet\, éneklés a templomban
DESCRIPTION:
URL:https://evangelikusovi.hu/esemeny/tanevzaro-gyermek-istentisztelet-enekles-a-templomban/
END:VEVENT
BEGIN:VEVENT
DTSTART;VALUE=DATE:20200615
DTEND;VALUE=DATE:20200720
DTSTAMP:20260426T051424
CREATED:20200216T203747Z
LAST-MODIFIED:20200216T203747Z
UID:2038-1592179200-1595203199@evangelikusovi.hu
SUMMARY:Nyári szünet\, az óvoda zárva tart
DESCRIPTION:
URL:https://evangelikusovi.hu/esemeny/nyari-szunet-az-ovoda-zarva-tart/
END:VEVENT
BEGIN:VEVENT
DTSTART;VALUE=DATE:20200622
DTEND;VALUE=DATE:20200627
DTSTAMP:20260426T051424
CREATED:20200216T203655Z
LAST-MODIFIED:20200216T203655Z
UID:2036-1592784000-1593215999@evangelikusovi.hu
SUMMARY:Evangélikus Skanzen tábor
DESCRIPTION:
URL:https://evangelikusovi.hu/esemeny/evangelikus-skanzen-tabor/
END:VEVENT
BEGIN:VEVENT
DTSTART;TZID=Europe/Budapest:20200910T170000
DTEND;TZID=Europe/Budapest:20200910T170000
DTSTAMP:20260426T051424
CREATED:20200910T063544Z
LAST-MODIFIED:20200910T063544Z
UID:2110-1599757200-1599757200@evangelikusovi.hu
SUMMARY:Szülői értekezlet
DESCRIPTION:
URL:https://evangelikusovi.hu/esemeny/szuloi-ertekezlet-2/
CATEGORIES:Össznépi
END:VEVENT
BEGIN:VEVENT
DTSTART;TZID=Europe/Budapest:20200911T160000
DTEND;TZID=Europe/Budapest:20200911T170000
DTSTAMP:20260426T051424
CREATED:20200910T063749Z
LAST-MODIFIED:20200910T063824Z
UID:2112-1599840000-1599843600@evangelikusovi.hu
SUMMARY:Gyermek Istentisztelet a templomban
DESCRIPTION:
URL:https://evangelikusovi.hu/esemeny/gyermek-istentisztelet-a-templomban/
LOCATION:Szentendrei Evangélikus Templom
CATEGORIES:Össznépi
END:VEVENT
BEGIN:VEVENT
DTSTART;VALUE=DATE:20200921
DTEND;VALUE=DATE:20200924
DTSTAMP:20260426T051424
CREATED:20200910T064123Z
LAST-MODIFIED:20200910T064123Z
UID:2115-1600646400-1600905599@evangelikusovi.hu
SUMMARY:Alma szüret csoportonként
DESCRIPTION:A 3 napon külön- külön mennek el a csoportok a szülőkkel együtt a pomázi Dolinába almát szedni.
URL:https://evangelikusovi.hu/esemeny/alma-szuret-csoportonkent/
END:VEVENT
BEGIN:VEVENT
DTSTART;TZID=Europe/Budapest:20200925T090000
DTEND;TZID=Europe/Budapest:20200925T110000
DTSTAMP:20260426T051424
CREATED:20200910T064359Z
LAST-MODIFIED:20200910T064359Z
UID:2117-1601024400-1601031600@evangelikusovi.hu
SUMMARY:Ovi Olimpia
DESCRIPTION:Óvodánk gyermekei ezen a délelőttön közösen tornáznak\, és csapatjátékokat játszanak .
URL:https://evangelikusovi.hu/esemeny/ovi-olimpia-2/
END:VEVENT
BEGIN:VEVENT
DTSTART;TZID=Europe/Budapest:20200927T160000
DTEND;TZID=Europe/Budapest:20200927T170000
DTSTAMP:20260426T051424
CREATED:20200910T064908Z
LAST-MODIFIED:20200910T064908Z
UID:2119-1601222400-1601226000@evangelikusovi.hu
SUMMARY:Gyermek Istentisztelet a templomban
DESCRIPTION:
URL:https://evangelikusovi.hu/esemeny/gyermek-istentisztelet-a-templomban-2/
LOCATION:Szentendrei Evangélikus Templom
END:VEVENT
BEGIN:VEVENT
DTSTART;TZID=Europe/Budapest:20201001T153000
DTEND;TZID=Europe/Budapest:20201001T170000
DTSTAMP:20260426T051424
CREATED:20200910T065251Z
LAST-MODIFIED:20200910T065251Z
UID:2121-1601566200-1601571600@evangelikusovi.hu
SUMMARY:Zene világnapja
DESCRIPTION:A délután folyamán a családokat is várjuk óvodánkba. A csoportokban különféle stílusú zenékkel\, énekekkel ismerkedhetünk meg. Zenészeink a szülők\, a munkatársak és az óvodások.
URL:https://evangelikusovi.hu/esemeny/zene-vilagnapja/
END:VEVENT
BEGIN:VEVENT
DTSTART;TZID=Europe/Budapest:20201002T080000
DTEND;TZID=Europe/Budapest:20201004T170000
DTSTAMP:20260426T051424
CREATED:20200910T070435Z
LAST-MODIFIED:20200910T070435Z
UID:2123-1601625600-1601830800@evangelikusovi.hu
SUMMARY:Gyülekezeti családi hétvége Balatonszárszón
DESCRIPTION:
URL:https://evangelikusovi.hu/esemeny/gyulekezeti-csaladi-hetvege-balatonszarszon/
END:VEVENT
BEGIN:VEVENT
DTSTART;VALUE=DATE:20201022
DTEND;VALUE=DATE:20201023
DTSTAMP:20260426T051424
CREATED:20201014T194835Z
LAST-MODIFIED:20201014T194835Z
UID:2153-1603324800-1603411199@evangelikusovi.hu
SUMMARY:Nevelés nélküli munkanap
DESCRIPTION:
URL:https://evangelikusovi.hu/esemeny/neveles-nelkuli-munkanap-2/
END:VEVENT
BEGIN:VEVENT
DTSTART;VALUE=DATE:20201023
DTEND;VALUE=DATE:20201101
DTSTAMP:20260426T051424
CREATED:20201014T194959Z
LAST-MODIFIED:20201014T194959Z
UID:2155-1603411200-1604188799@evangelikusovi.hu
SUMMARY:Őszi szünet
DESCRIPTION:
URL:https://evangelikusovi.hu/esemeny/oszi-szunet/
END:VEVENT
BEGIN:VEVENT
DTSTART;TZID=Europe/Budapest:20201106T080000
DTEND;TZID=Europe/Budapest:20201106T170000
DTSTAMP:20260426T051424
CREATED:20201105T191630Z
LAST-MODIFIED:20201105T191630Z
UID:2176-1604649600-1604682000@evangelikusovi.hu
SUMMARY:Templomlátogatás- Reformáció ünnepe
DESCRIPTION:
URL:https://evangelikusovi.hu/esemeny/templomlatogatas-reformacio-unnepe/
END:VEVENT
BEGIN:VEVENT
DTSTART;TZID=Europe/Budapest:20201108T160000
DTEND;TZID=Europe/Budapest:20201108T170000
DTSTAMP:20260426T051424
CREATED:20201105T191846Z
LAST-MODIFIED:20201105T191846Z
UID:2179-1604851200-1604854800@evangelikusovi.hu
SUMMARY:Gyermek Istentisztelet a templomban
DESCRIPTION:
URL:https://evangelikusovi.hu/esemeny/gyermek-istentisztelet-a-templomban-3/
END:VEVENT
BEGIN:VEVENT
DTSTART;TZID=Europe/Budapest:20201122T160000
DTEND;TZID=Europe/Budapest:20201122T170000
DTSTAMP:20260426T051424
CREATED:20201105T191942Z
LAST-MODIFIED:20201105T191942Z
UID:2182-1606060800-1606064400@evangelikusovi.hu
SUMMARY:Gyermek Istentisztelet a templomban
DESCRIPTION:
URL:https://evangelikusovi.hu/esemeny/gyermek-istentisztelet-a-templomban-4/
END:VEVENT
BEGIN:VEVENT
DTSTART;TZID=Europe/Budapest:20201213T160000
DTEND;TZID=Europe/Budapest:20201213T170000
DTSTAMP:20260426T051424
CREATED:20201105T192029Z
LAST-MODIFIED:20201105T192029Z
UID:2184-1607875200-1607878800@evangelikusovi.hu
SUMMARY:Gyermek Istentisztelet a templomban
DESCRIPTION:
URL:https://evangelikusovi.hu/esemeny/gyermek-istentisztelet-a-templomban-5/
END:VEVENT
BEGIN:VEVENT
DTSTART;TZID=Europe/Budapest:20210901T080000
DTEND;TZID=Europe/Budapest:20210901T170000
DTSTAMP:20260426T051424
CREATED:20210829T213749Z
LAST-MODIFIED:20210829T213749Z
UID:2263-1630483200-1630515600@evangelikusovi.hu
SUMMARY:Első nap az óvodában
DESCRIPTION:
URL:https://evangelikusovi.hu/esemeny/elso-nap-az-ovodaban/
END:VEVENT
BEGIN:VEVENT
DTSTART;TZID=Europe/Budapest:20210901T170000
DTEND;TZID=Europe/Budapest:20210901T180000
DTSTAMP:20260426T051424
CREATED:20210829T213527Z
LAST-MODIFIED:20210829T213527Z
UID:2259-1630515600-1630519200@evangelikusovi.hu
SUMMARY:Évnyitó Istentisztelet
DESCRIPTION:
URL:https://evangelikusovi.hu/esemeny/evnyito-istentisztelet/
LOCATION:Szentendrei Evangélikus Templom
END:VEVENT
BEGIN:VEVENT
DTSTART;TZID=Europe/Budapest:20210902T080000
DTEND;TZID=Europe/Budapest:20210902T113000
DTSTAMP:20260426T051424
CREATED:20210829T213639Z
LAST-MODIFIED:20210829T213639Z
UID:2261-1630569600-1630582200@evangelikusovi.hu
SUMMARY:Új gyermekek fogadása
DESCRIPTION:
URL:https://evangelikusovi.hu/esemeny/uj-gyermekek-fogadasa/
END:VEVENT
BEGIN:VEVENT
DTSTART;TZID=Europe/Budapest:20210909T170000
DTEND;TZID=Europe/Budapest:20210909T180000
DTSTAMP:20260426T051424
CREATED:20210829T213846Z
LAST-MODIFIED:20210829T213846Z
UID:2265-1631206800-1631210400@evangelikusovi.hu
SUMMARY:Szülői értekezlet
DESCRIPTION:
URL:https://evangelikusovi.hu/esemeny/szuloi-ertekezlet-3/
END:VEVENT
BEGIN:VEVENT
DTSTART;TZID=Europe/Budapest:20210912T160000
DTEND;TZID=Europe/Budapest:20210912T170000
DTSTAMP:20260426T051424
CREATED:20210829T214540Z
LAST-MODIFIED:20210829T214540Z
UID:2269-1631462400-1631466000@evangelikusovi.hu
SUMMARY:Gyermek- istentisztelet
DESCRIPTION:
URL:https://evangelikusovi.hu/esemeny/gyermek-istentisztelet-10/
END:VEVENT
BEGIN:VEVENT
DTSTART;TZID=Europe/Budapest:20210921T090000
DTEND;TZID=Europe/Budapest:20210923T113000
DTSTAMP:20260426T051424
CREATED:20210829T214904Z
LAST-MODIFIED:20210913T194634Z
UID:2273-1632214800-1632396600@evangelikusovi.hu
SUMMARY:Almaszüret
DESCRIPTION:
URL:https://evangelikusovi.hu/esemeny/almaszuret/
END:VEVENT
END:VCALENDAR