BEGIN:VCALENDAR
VERSION:2.0
PRODID:-//Szentendrei Evangélikus Zenei Óvoda - ECPv6.5.2//NONSGML v1.0//EN
CALSCALE:GREGORIAN
METHOD:PUBLISH
X-WR-CALNAME:Szentendrei Evangélikus Zenei Óvoda
X-ORIGINAL-URL:https://evangelikusovi.hu
X-WR-CALDESC:Events for Szentendrei Evangélikus Zenei Óvoda
REFRESH-INTERVAL;VALUE=DURATION:PT1H
X-Robots-Tag:noindex
X-PUBLISHED-TTL:PT1H
BEGIN:VTIMEZONE
TZID:Europe/Budapest
BEGIN:DAYLIGHT
TZOFFSETFROM:+0100
TZOFFSETTO:+0200
TZNAME:CEST
DTSTART:20210328T010000
END:DAYLIGHT
BEGIN:STANDARD
TZOFFSETFROM:+0200
TZOFFSETTO:+0100
TZNAME:CET
DTSTART:20211031T010000
END:STANDARD
BEGIN:DAYLIGHT
TZOFFSETFROM:+0100
TZOFFSETTO:+0200
TZNAME:CEST
DTSTART:20220327T010000
END:DAYLIGHT
BEGIN:STANDARD
TZOFFSETFROM:+0200
TZOFFSETTO:+0100
TZNAME:CET
DTSTART:20221030T010000
END:STANDARD
END:VTIMEZONE
BEGIN:VEVENT
DTSTART;VALUE=DATE:20211025
DTEND;VALUE=DATE:20211101
DTSTAMP:20260426T060316
CREATED:20210829T220354Z
LAST-MODIFIED:20210829T220354Z
UID:2291-1635120000-1635724799@evangelikusovi.hu
SUMMARY:Őszi szünet\, ügyelet az óvodában
DESCRIPTION:
URL:https://evangelikusovi.hu/esemeny/oszi-szunet-ugyelet-az-ovodaban/
END:VEVENT
BEGIN:VEVENT
DTSTART;TZID=Europe/Budapest:20211107T160000
DTEND;TZID=Europe/Budapest:20211107T170000
DTSTAMP:20260426T060316
CREATED:20210829T220513Z
LAST-MODIFIED:20210829T220513Z
UID:2295-1636300800-1636304400@evangelikusovi.hu
SUMMARY:Gyermek-istentisztelet
DESCRIPTION:
URL:https://evangelikusovi.hu/esemeny/gyermek-istentisztelet-14/
END:VEVENT
BEGIN:VEVENT
DTSTART;TZID=Europe/Budapest:20211111T160000
DTEND;TZID=Europe/Budapest:20211111T170000
DTSTAMP:20260426T060316
CREATED:20210829T220608Z
LAST-MODIFIED:20210829T220608Z
UID:2297-1636646400-1636650000@evangelikusovi.hu
SUMMARY:Márton-nap – lámpás felvonulás az óvodában
DESCRIPTION:
URL:https://evangelikusovi.hu/esemeny/marton-nap-lampas-felvonulas-az-ovodaban/
END:VEVENT
BEGIN:VEVENT
DTSTART;TZID=Europe/Budapest:20211121T160000
DTEND;TZID=Europe/Budapest:20211121T170000
DTSTAMP:20260426T060316
CREATED:20210829T220638Z
LAST-MODIFIED:20210829T220638Z
UID:2299-1637510400-1637514000@evangelikusovi.hu
SUMMARY:Gyermek-istentisztelet
DESCRIPTION:
URL:https://evangelikusovi.hu/esemeny/gyermek-istentisztelet-15/
END:VEVENT
BEGIN:VEVENT
DTSTART;TZID=Europe/Budapest:20211126T153000
DTEND;TZID=Europe/Budapest:20211126T170000
DTSTAMP:20260426T060316
CREATED:20210829T220748Z
LAST-MODIFIED:20210829T220748Z
UID:2301-1637940600-1637946000@evangelikusovi.hu
SUMMARY:Adventi barkácsdélután
DESCRIPTION:
URL:https://evangelikusovi.hu/esemeny/adventi-barkacsdelutan/
END:VEVENT
BEGIN:VEVENT
DTSTART;VALUE=DATE:20211128
DTEND;VALUE=DATE:20211129
DTSTAMP:20260426T060316
CREATED:20210829T220825Z
LAST-MODIFIED:20210829T220825Z
UID:2303-1638057600-1638143999@evangelikusovi.hu
SUMMARY:Advent első vasárnapja
DESCRIPTION:
URL:https://evangelikusovi.hu/esemeny/advent-elso-vasarnapja/
END:VEVENT
BEGIN:VEVENT
DTSTART;TZID=Europe/Budapest:20211206T100000
DTEND;TZID=Europe/Budapest:20211206T113000
DTSTAMP:20260426T060316
CREATED:20210829T220907Z
LAST-MODIFIED:20210829T220907Z
UID:2305-1638784800-1638790200@evangelikusovi.hu
SUMMARY:Mikulás
DESCRIPTION:
URL:https://evangelikusovi.hu/esemeny/mikulas/
END:VEVENT
BEGIN:VEVENT
DTSTART;TZID=Europe/Budapest:20211212T160000
DTEND;TZID=Europe/Budapest:20211212T170000
DTSTAMP:20260426T060316
CREATED:20210829T221044Z
LAST-MODIFIED:20210829T221044Z
UID:2307-1639324800-1639328400@evangelikusovi.hu
SUMMARY:Gyermek-istentisztelet
DESCRIPTION:
URL:https://evangelikusovi.hu/esemeny/gyermek-istentisztelet-16/
END:VEVENT
BEGIN:VEVENT
DTSTART;TZID=Europe/Budapest:20211217T160000
DTEND;TZID=Europe/Budapest:20211217T170000
DTSTAMP:20260426T060316
CREATED:20210829T221240Z
LAST-MODIFIED:20210829T221240Z
UID:2309-1639756800-1639760400@evangelikusovi.hu
SUMMARY:Betlehemes a templomban
DESCRIPTION:
URL:https://evangelikusovi.hu/esemeny/betlehemes-a-templomban/
END:VEVENT
BEGIN:VEVENT
DTSTART;VALUE=DATE:20211219
DTEND;VALUE=DATE:20211220
DTSTAMP:20260426T060316
CREATED:20210829T221545Z
LAST-MODIFIED:20210829T221545Z
UID:2313-1639872000-1639958399@evangelikusovi.hu
SUMMARY:Adventi éneklés a templomnál
DESCRIPTION:
URL:https://evangelikusovi.hu/esemeny/adventi-enekles-a-templomnal/
END:VEVENT
BEGIN:VEVENT
DTSTART;TZID=Europe/Budapest:20211220T080000
DTEND;TZID=Europe/Budapest:20211220T113000
DTSTAMP:20260426T060316
CREATED:20210829T221430Z
LAST-MODIFIED:20210829T221430Z
UID:2311-1639987200-1639999800@evangelikusovi.hu
SUMMARY:Karácsony a csoportokban
DESCRIPTION:
URL:https://evangelikusovi.hu/esemeny/karacsony-a-csoportokban/
END:VEVENT
BEGIN:VEVENT
DTSTART;TZID=Europe/Budapest:20211221T080000
DTEND;TZID=Europe/Budapest:20211221T170000
DTSTAMP:20260426T060316
CREATED:20210829T221635Z
LAST-MODIFIED:20210829T221635Z
UID:2315-1640073600-1640106000@evangelikusovi.hu
SUMMARY:Nevelés nélküli munkanap
DESCRIPTION:
URL:https://evangelikusovi.hu/esemeny/neveles-nelkuli-munkanap-4/
END:VEVENT
BEGIN:VEVENT
DTSTART;VALUE=DATE:20211222
DTEND;VALUE=DATE:20220103
DTSTAMP:20260426T060316
CREATED:20210829T221717Z
LAST-MODIFIED:20210829T221717Z
UID:2317-1640131200-1641167999@evangelikusovi.hu
SUMMARY:Téli szünet\, az óvoda zárva tart
DESCRIPTION:
URL:https://evangelikusovi.hu/esemeny/teli-szunet-az-ovoda-zarva-tart/
END:VEVENT
BEGIN:VEVENT
DTSTART;TZID=Europe/Budapest:20220106T100000
DTEND;TZID=Europe/Budapest:20220106T170000
DTSTAMP:20260426T060316
CREATED:20220124T082748Z
LAST-MODIFIED:20220124T082748Z
UID:2454-1641463200-1641488400@evangelikusovi.hu
SUMMARY:Háromkirály-járás a Fő téren
DESCRIPTION:
URL:https://evangelikusovi.hu/esemeny/haromkiraly-jaras-a-fo-teren/
CATEGORIES:Össznépi
END:VEVENT
BEGIN:VEVENT
DTSTART;TZID=Europe/Budapest:20220117T100000
DTEND;TZID=Europe/Budapest:20220117T110000
DTSTAMP:20260426T060316
CREATED:20220124T082956Z
LAST-MODIFIED:20220124T082956Z
UID:2456-1642413600-1642417200@evangelikusovi.hu
SUMMARY:Bábszínház
DESCRIPTION:
URL:https://evangelikusovi.hu/esemeny/babszinhaz/
CATEGORIES:Össznépi
END:VEVENT
BEGIN:VEVENT
DTSTART;TZID=Europe/Budapest:20220123T160000
DTEND;TZID=Europe/Budapest:20220123T170000
DTSTAMP:20260426T060316
CREATED:20220124T082610Z
LAST-MODIFIED:20220124T082610Z
UID:2452-1642953600-1642957200@evangelikusovi.hu
SUMMARY:Gyermek-istentisztelet
DESCRIPTION:
URL:https://evangelikusovi.hu/esemeny/gyermek-istentisztelet-17/
CATEGORIES:Ünnepnapok, szünetek
END:VEVENT
BEGIN:VEVENT
DTSTART;VALUE=DATE:20220204
DTEND;VALUE=DATE:20220207
DTSTAMP:20260426T060316
CREATED:20220124T083100Z
LAST-MODIFIED:20220124T083100Z
UID:2458-1643932800-1644191999@evangelikusovi.hu
SUMMARY:Családi hétvége Balatonszárszó a gyülekezettel
DESCRIPTION:
URL:https://evangelikusovi.hu/esemeny/csaladi-hetvege-balatonszarszo-a-gyulekezettel/
CATEGORIES:Össznépi
END:VEVENT
BEGIN:VEVENT
DTSTART;TZID=Europe/Budapest:20220211T080000
DTEND;TZID=Europe/Budapest:20220211T113000
DTSTAMP:20260426T060316
CREATED:20220124T083424Z
LAST-MODIFIED:20220124T083424Z
UID:2460-1644566400-1644579000@evangelikusovi.hu
SUMMARY:Itt a farsang dereka\, ovis bál a csoportokban
DESCRIPTION:
URL:https://evangelikusovi.hu/esemeny/itt-a-farsang-dereka-ovis-bal-a-csoportokban/
CATEGORIES:Össznépi
END:VEVENT
BEGIN:VEVENT
DTSTART;TZID=Europe/Budapest:20220213T100000
DTEND;TZID=Europe/Budapest:20220213T113000
DTSTAMP:20260426T060316
CREATED:20220124T131720Z
LAST-MODIFIED:20220124T131720Z
UID:2462-1644746400-1644751800@evangelikusovi.hu
SUMMARY:Családi Istentisztelet
DESCRIPTION:
URL:https://evangelikusovi.hu/esemeny/csaladi-istentisztelet/
CATEGORIES:Ünnepnapok, szünetek
END:VEVENT
BEGIN:VEVENT
DTSTART;TZID=Europe/Budapest:20220216T170000
DTEND;TZID=Europe/Budapest:20220216T180000
DTSTAMP:20260426T060316
CREATED:20220124T131819Z
LAST-MODIFIED:20220128T132421Z
UID:2464-1645030800-1645034400@evangelikusovi.hu
SUMMARY:Nyílt napok helyett beszélgetés az óvodapedagógusokkal
DESCRIPTION:A járványügyi intézkedések miatt az óvodában délelőtti nyílt napokat sajnos nem áll módunkban megtartani. Helyette február 16-án és 17-én 17 órakor és 17.30-kor rövid betekintő tájékoztatót tartunk óvodánkban.\nEzekre az alkalmakra előzetes jelentkezés szükséges az alábbi telefonon: 20/391-65-40\nKészítettünk egy tájékoztató videót is óvodánkról az érdeklődők számára\, amely a videók között megtalálható.\nFebruár 27-én 16 órakor nyílt Gyermek-istentiszteletet tartunk a szentendrei Evangélikus templomban (Szentendre\, Luther tér 1.)\, melyre minden érdeklődőt szeretettel várunk.
URL:https://evangelikusovi.hu/esemeny/nyilt-napok-az-ovodaban/
CATEGORIES:Össznépi
END:VEVENT
BEGIN:VEVENT
DTSTART;TZID=Europe/Budapest:20220217T170000
DTEND;TZID=Europe/Budapest:20220217T180000
DTSTAMP:20260426T060316
CREATED:20220126T125217Z
LAST-MODIFIED:20220128T132456Z
UID:2497-1645117200-1645120800@evangelikusovi.hu
SUMMARY:Nyílt napok helyett beszélgetés az óvodapedagógusokkal
DESCRIPTION:A járványügyi intézkedések miatt az óvodában délelőtti nyílt napokat sajnos nem áll módunkban megtartani. Helyette február 16-án és 17-én 17 órakor és 17.30-kor rövid betekintő tájékoztatót tartunk óvodánkban.\nEzekre az alkalmakra előzetes jelentkezés szükséges az alábbi telefonon: 20/391-65-40\nKészítettünk egy tájékoztató videót is óvodánkról az érdeklődők számára\, amely a videók között megtalálható.\nFebruár 27-én 16 órakor nyílt Gyermek-istentiszteletet tartunk a szentendrei Evangélikus templomban (Szentendre\, Luther tér 1.)\, melyre minden érdeklődőt szeretettel várunk.
URL:https://evangelikusovi.hu/esemeny/nyilt-napok-helyett-beszelgetes-az-ovodapedagogusokkal/
END:VEVENT
BEGIN:VEVENT
DTSTART;TZID=Europe/Budapest:20220227T160000
DTEND;TZID=Europe/Budapest:20220227T170000
DTSTAMP:20260426T060316
CREATED:20220124T131909Z
LAST-MODIFIED:20220124T131909Z
UID:2466-1645977600-1645981200@evangelikusovi.hu
SUMMARY:Gyermek-istentisztelet
DESCRIPTION:
URL:https://evangelikusovi.hu/esemeny/gyermek-istentisztelet-18/
CATEGORIES:Ünnepnapok, szünetek
END:VEVENT
BEGIN:VEVENT
DTSTART;VALUE=DATE:20220302
DTEND;VALUE=DATE:20220303
DTSTAMP:20260426T060316
CREATED:20220124T131945Z
LAST-MODIFIED:20220124T131945Z
UID:2468-1646179200-1646265599@evangelikusovi.hu
SUMMARY:Hamvazó szerda\, a böjt első napja
DESCRIPTION:
URL:https://evangelikusovi.hu/esemeny/hamvazo-szerda-a-bojt-elso-napja-2/
CATEGORIES:Ünnepnapok, szünetek
END:VEVENT
BEGIN:VEVENT
DTSTART;TZID=Europe/Budapest:20220313T100000
DTEND;TZID=Europe/Budapest:20220313T123000
DTSTAMP:20260426T060316
CREATED:20220124T132424Z
LAST-MODIFIED:20220124T132424Z
UID:2482-1647165600-1647174600@evangelikusovi.hu
SUMMARY:Családi istentisztelet
DESCRIPTION:
URL:https://evangelikusovi.hu/esemeny/csaladi-istentisztelet-2/
CATEGORIES:Ünnepnapok, szünetek
END:VEVENT
BEGIN:VEVENT
DTSTART;VALUE=DATE:20220314
DTEND;VALUE=DATE:20220315
DTSTAMP:20260426T060316
CREATED:20220124T132456Z
LAST-MODIFIED:20220124T132456Z
UID:2484-1647216000-1647302399@evangelikusovi.hu
SUMMARY:Ledolgozott munkanap\, az óvoda zárva tart
DESCRIPTION:
URL:https://evangelikusovi.hu/esemeny/ledolgozott-munkanap-az-ovoda-zarva-tart/
END:VEVENT
BEGIN:VEVENT
DTSTART;VALUE=DATE:20220315
DTEND;VALUE=DATE:20220316
DTSTAMP:20260426T060316
CREATED:20220124T132236Z
LAST-MODIFIED:20220124T132236Z
UID:2476-1647302400-1647388799@evangelikusovi.hu
SUMMARY:Jelentkezési határidő
DESCRIPTION:
URL:https://evangelikusovi.hu/esemeny/jelentkezesi-hatarido/
END:VEVENT
BEGIN:VEVENT
DTSTART;TZID=Europe/Budapest:20220315T080000
DTEND;TZID=Europe/Budapest:20220315T170000
DTSTAMP:20260426T060316
CREATED:20220124T132210Z
LAST-MODIFIED:20220124T132210Z
UID:2474-1647331200-1647363600@evangelikusovi.hu
SUMMARY:Nemzeti ünnep
DESCRIPTION:
URL:https://evangelikusovi.hu/esemeny/nemzeti-unnep/
CATEGORIES:Ünnepnapok, szünetek
END:VEVENT
BEGIN:VEVENT
DTSTART;TZID=Europe/Budapest:20220316T090000
DTEND;TZID=Europe/Budapest:20220316T113000
DTSTAMP:20260426T060316
CREATED:20220124T132129Z
LAST-MODIFIED:20220124T132129Z
UID:2472-1647421200-1647430200@evangelikusovi.hu
SUMMARY:Ünnepi megemlékezés az óvodában
DESCRIPTION:
URL:https://evangelikusovi.hu/esemeny/unnepi-megemlekezes-az-ovodaban-2/
CATEGORIES:Ünnepnapok, szünetek
END:VEVENT
BEGIN:VEVENT
DTSTART;VALUE=DATE:20220322
DTEND;VALUE=DATE:20220323
DTSTAMP:20260426T060316
CREATED:20220124T132615Z
LAST-MODIFIED:20220124T132615Z
UID:2488-1647907200-1647993599@evangelikusovi.hu
SUMMARY:A víz világnapja
DESCRIPTION:
URL:https://evangelikusovi.hu/esemeny/a-viz-vilagnapja-2/
END:VEVENT
BEGIN:VEVENT
DTSTART;VALUE=DATE:20220323
DTEND;VALUE=DATE:20220326
DTSTAMP:20260426T060316
CREATED:20220124T132647Z
LAST-MODIFIED:20220124T132647Z
UID:2490-1647993600-1648252799@evangelikusovi.hu
SUMMARY:Felvételi beszélgetések
DESCRIPTION:
URL:https://evangelikusovi.hu/esemeny/felveteli-beszelgetesek/
END:VEVENT
END:VCALENDAR