BEGIN:VCALENDAR
VERSION:2.0
PRODID:-//Szentendrei Evangélikus Zenei Óvoda - ECPv6.5.2//NONSGML v1.0//EN
CALSCALE:GREGORIAN
METHOD:PUBLISH
X-WR-CALNAME:Szentendrei Evangélikus Zenei Óvoda
X-ORIGINAL-URL:https://evangelikusovi.hu
X-WR-CALDESC:Events for Szentendrei Evangélikus Zenei Óvoda
REFRESH-INTERVAL;VALUE=DURATION:PT1H
X-Robots-Tag:noindex
X-PUBLISHED-TTL:PT1H
BEGIN:VTIMEZONE
TZID:Europe/Budapest
BEGIN:DAYLIGHT
TZOFFSETFROM:+0100
TZOFFSETTO:+0200
TZNAME:CEST
DTSTART:20260329T010000
END:DAYLIGHT
BEGIN:STANDARD
TZOFFSETFROM:+0200
TZOFFSETTO:+0100
TZNAME:CET
DTSTART:20261025T010000
END:STANDARD
END:VTIMEZONE
BEGIN:VEVENT
DTSTART;VALUE=DATE:20260106
DTEND;VALUE=DATE:20260107
DTSTAMP:20260426T050435
CREATED:20251210T053318Z
LAST-MODIFIED:20251210T053318Z
UID:4169-1767657600-1767743999@evangelikusovi.hu
SUMMARY:Vízkereszt napja
DESCRIPTION:
URL:https://evangelikusovi.hu/esemeny/vizkereszt-napja/
END:VEVENT
BEGIN:VEVENT
DTSTART;TZID=Europe/Budapest:20260106T093000
DTEND;TZID=Europe/Budapest:20260106T103000
DTSTAMP:20260426T050435
CREATED:20260107T161525Z
LAST-MODIFIED:20260107T161525Z
UID:4236-1767691800-1767695400@evangelikusovi.hu
SUMMARY:Vízkereszt - séta a főtéri betlehemhez
DESCRIPTION:
URL:https://evangelikusovi.hu/esemeny/vizkereszt-seta-a-foteri-betlehemhez/
END:VEVENT
BEGIN:VEVENT
DTSTART;TZID=Europe/Budapest:20260107T103000
DTEND;TZID=Europe/Budapest:20260107T110000
DTSTAMP:20260426T050435
CREATED:20260107T162310Z
LAST-MODIFIED:20260107T162310Z
UID:4240-1767781800-1767783600@evangelikusovi.hu
SUMMARY:Ákom Bákom
DESCRIPTION:Kedves Szülők! \n  \n\n január 7-én\,  szerdán 10:30 órától   egy népmesemondó hölgy\, Rozka mesél a gyerekeknek.\n\n  \nKöszönjük: \nAz óvoda munkatársai
URL:https://evangelikusovi.hu/esemeny/akom-bakom/
END:VEVENT
BEGIN:VEVENT
DTSTART;TZID=Europe/Budapest:20260115T170000
DTEND;TZID=Europe/Budapest:20260115T183000
DTSTAMP:20260426T050435
CREATED:20260107T162822Z
LAST-MODIFIED:20260107T162822Z
UID:4242-1768496400-1768501800@evangelikusovi.hu
SUMMARY:Szülői értekezlet
DESCRIPTION:Kedves Szülők! \n  \nSzülői értekezletet tartunk 2026. január 15-én (csütörtökön) 17 órakor. \n Alkalmunkat közösen kezdjük a tornateremben\, majd ezt követően csoportonként tartjuk beszélgetéseinket. \nKérjük\, hogy erre az alkalomra a gyermekek elhelyezését legyetek szívesek megoldani!  \nMegértéseteket köszönjük! \nMinden kedves Szülőt szeretettel várunk. \n  \nAz óvoda munkatársai
URL:https://evangelikusovi.hu/esemeny/szuloi-ertekezlet-10/
END:VEVENT
BEGIN:VEVENT
DTSTART;TZID=Europe/Budapest:20260125T160000
DTEND;TZID=Europe/Budapest:20260125T173000
DTSTAMP:20260426T050435
CREATED:20260123T130421Z
LAST-MODIFIED:20260123T130421Z
UID:4307-1769356800-1769362200@evangelikusovi.hu
SUMMARY:Gyermek Istentisztelet
DESCRIPTION:Kedves Szülők! \nEzen a héten vasárnap (január 25.) délután 4 órakor Gyermek Istentisztelet lesz.\nEzen az alkalmon a Bárányka csoport szolgál. Szeretettel hívunk és várunk Titeket! \nA gyermekek számára készített finomságokat\, gyümölcsöt szívesen fogadjuk. \nÓvoda dolgozói és lelkésze
URL:https://evangelikusovi.hu/esemeny/gyermek-istentisztelet-36/
END:VEVENT
END:VCALENDAR