BEGIN:VCALENDAR
VERSION:2.0
PRODID:-//Szentendrei Evangélikus Zenei Óvoda - ECPv6.5.2//NONSGML v1.0//EN
CALSCALE:GREGORIAN
METHOD:PUBLISH
X-ORIGINAL-URL:https://evangelikusovi.hu
X-WR-CALDESC:Events for Szentendrei Evangélikus Zenei Óvoda
REFRESH-INTERVAL;VALUE=DURATION:PT1H
X-Robots-Tag:noindex
X-PUBLISHED-TTL:PT1H
BEGIN:VTIMEZONE
TZID:Europe/Budapest
BEGIN:DAYLIGHT
TZOFFSETFROM:+0100
TZOFFSETTO:+0200
TZNAME:CEST
DTSTART:20260329T010000
END:DAYLIGHT
BEGIN:STANDARD
TZOFFSETFROM:+0200
TZOFFSETTO:+0100
TZNAME:CET
DTSTART:20261025T010000
END:STANDARD
END:VTIMEZONE
BEGIN:VEVENT
DTSTART;VALUE=DATE:20260303
DTEND;VALUE=DATE:20260304
DTSTAMP:20260425T163622
CREATED:20260303T191438Z
LAST-MODIFIED:20260303T191438Z
UID:4365-1772496000-1772582399@evangelikusovi.hu
SUMMARY:Nagypéntek – az óvoda zárva
DESCRIPTION:
URL:https://evangelikusovi.hu/esemeny/nagypentek-az-ovoda-zarva/
END:VEVENT
BEGIN:VEVENT
DTSTART;TZID=Europe/Budapest:20260308T100000
DTEND;TZID=Europe/Budapest:20260308T110000
DTSTAMP:20260425T163622
CREATED:20260303T190148Z
LAST-MODIFIED:20260303T190148Z
UID:4349-1772964000-1772967600@evangelikusovi.hu
SUMMARY:Családi istentisztelet
DESCRIPTION:
URL:https://evangelikusovi.hu/esemeny/csaladi-istentisztelet-28/
END:VEVENT
BEGIN:VEVENT
DTSTART;VALUE=DATE:20260315
DTEND;VALUE=DATE:20260316
DTSTAMP:20260425T163622
CREATED:20260303T190333Z
LAST-MODIFIED:20260303T190333Z
UID:4351-1773532800-1773619199@evangelikusovi.hu
SUMMARY:Jelentkezési határidő
DESCRIPTION:
URL:https://evangelikusovi.hu/esemeny/jelentkezesi-hatarido-2/
END:VEVENT
BEGIN:VEVENT
DTSTART;TZID=Europe/Budapest:20260317T090000
DTEND;TZID=Europe/Budapest:20260317T170000
DTSTAMP:20260425T163622
CREATED:20260303T190749Z
LAST-MODIFIED:20260303T190749Z
UID:4353-1773738000-1773766800@evangelikusovi.hu
SUMMARY:Felvételi beszélgetések
DESCRIPTION:
URL:https://evangelikusovi.hu/esemeny/felveteli-beszelgetesek-4/
END:VEVENT
BEGIN:VEVENT
DTSTART;TZID=Europe/Budapest:20260318T090000
DTEND;TZID=Europe/Budapest:20260318T170000
DTSTAMP:20260425T163622
CREATED:20260303T190527Z
LAST-MODIFIED:20260303T190721Z
UID:4355-1773824400-1773853200@evangelikusovi.hu
SUMMARY:Felvételi beszélgetések
DESCRIPTION:
URL:https://evangelikusovi.hu/esemeny/felveteli-beszelgetesek-2/
END:VEVENT
BEGIN:VEVENT
DTSTART;TZID=Europe/Budapest:20260320T090000
DTEND;TZID=Europe/Budapest:20260320T170000
DTSTAMP:20260425T163622
CREATED:20260303T190609Z
LAST-MODIFIED:20260303T190652Z
UID:4357-1773997200-1774026000@evangelikusovi.hu
SUMMARY:Felvételi beszélgetések
DESCRIPTION:
URL:https://evangelikusovi.hu/esemeny/felveteli-beszelgetesek-3/
END:VEVENT
BEGIN:VEVENT
DTSTART;TZID=Europe/Budapest:20260322T160000
DTEND;TZID=Europe/Budapest:20260322T170000
DTSTAMP:20260425T163622
CREATED:20260303T191029Z
LAST-MODIFIED:20260303T191029Z
UID:4359-1774195200-1774198800@evangelikusovi.hu
SUMMARY:Gyermek-Istentisztelet
DESCRIPTION:
URL:https://evangelikusovi.hu/esemeny/gyermek-istentisztelet-38/
END:VEVENT
BEGIN:VEVENT
DTSTART;TZID=Europe/Budapest:20260322T160000
DTEND;TZID=Europe/Budapest:20260322T170000
DTSTAMP:20260425T163622
CREATED:20260319T124009Z
LAST-MODIFIED:20260319T124009Z
UID:4384-1774195200-1774198800@evangelikusovi.hu
SUMMARY:Gyermek Istentisztelet
DESCRIPTION:Kedves Szülők! \nEzen a héten vasárnap (március 22.) délután 4 órakor  \nGyermek Istentisztelet lesz. Ezen az alkalmon a Szivárvány csoport szolgál. \nSzeretettel hívunk és várunk Titeket! \nA gyermekek számára készített finomságokat\, gyümölcsöt szívesen fogadjuk. \n  \nÓvoda dolgozói és lelkésze
URL:https://evangelikusovi.hu/esemeny/gyermek-istentisztelet-40/
END:VEVENT
BEGIN:VEVENT
DTSTART;VALUE=DATE:20260329
DTEND;VALUE=DATE:20260330
DTSTAMP:20260425T163622
CREATED:20260303T191115Z
LAST-MODIFIED:20260303T191142Z
UID:4361-1774742400-1774828799@evangelikusovi.hu
SUMMARY:Virágvasárnap
DESCRIPTION:
URL:https://evangelikusovi.hu/esemeny/viragvasarnap/
END:VEVENT
BEGIN:VEVENT
DTSTART;TZID=Europe/Budapest:20260331T100000
DTEND;TZID=Europe/Budapest:20260331T110000
DTSTAMP:20260425T163622
CREATED:20260303T191400Z
LAST-MODIFIED:20260303T191400Z
UID:4363-1774951200-1774954800@evangelikusovi.hu
SUMMARY:Nagyheti bibliakör a templomban
DESCRIPTION:
URL:https://evangelikusovi.hu/esemeny/nagyheti-bibliakor-a-templomban-4/
END:VEVENT
END:VCALENDAR