BEGIN:VCALENDAR
VERSION:2.0
PRODID:-//Szentendrei Evangélikus Zenei Óvoda - ECPv6.5.2//NONSGML v1.0//EN
CALSCALE:GREGORIAN
METHOD:PUBLISH
X-WR-CALNAME:Szentendrei Evangélikus Zenei Óvoda
X-ORIGINAL-URL:https://evangelikusovi.hu
X-WR-CALDESC:Events for Szentendrei Evangélikus Zenei Óvoda
REFRESH-INTERVAL;VALUE=DURATION:PT1H
X-Robots-Tag:noindex
X-PUBLISHED-TTL:PT1H
BEGIN:VTIMEZONE
TZID:Europe/Budapest
BEGIN:DAYLIGHT
TZOFFSETFROM:+0100
TZOFFSETTO:+0200
TZNAME:CEST
DTSTART:20250330T010000
END:DAYLIGHT
BEGIN:STANDARD
TZOFFSETFROM:+0200
TZOFFSETTO:+0100
TZNAME:CET
DTSTART:20251026T010000
END:STANDARD
END:VTIMEZONE
BEGIN:VEVENT
DTSTART;TZID=Europe/Budapest:20251217T170000
DTEND;TZID=Europe/Budapest:20251217T183000
DTSTAMP:20260426T062525
CREATED:20251215T162119Z
LAST-MODIFIED:20251215T162119Z
UID:4232-1765990800-1765996200@evangelikusovi.hu
SUMMARY:Templomi karácsony
DESCRIPTION:Templomi karácsony \nA gyermekekkel nagy örömmel és izgalommal készülődünk a betlehemes játékra\, amely\ndecember 17-én\, szerdán 17 órákor kezdődik az Evangélikus Templomban.\nMinden kedves családot szeretettel várunk! \nVárakozva és köszönettel:\nAz óvoda munkatársai
URL:https://evangelikusovi.hu/esemeny/templomi-karacsony/
CATEGORIES:Hitélet
END:VEVENT
BEGIN:VEVENT
DTSTART;VALUE=DATE:20251218
DTEND;VALUE=DATE:20251219
DTSTAMP:20260426T062525
CREATED:20251210T053140Z
LAST-MODIFIED:20251210T053140Z
UID:4167-1766016000-1766102399@evangelikusovi.hu
SUMMARY:Csoportos karácsony
DESCRIPTION:
URL:https://evangelikusovi.hu/esemeny/csoportos-karacsony/
END:VEVENT
BEGIN:VEVENT
DTSTART;VALUE=DATE:20251218
DTEND;VALUE=DATE:20251219
DTSTAMP:20260426T062525
CREATED:20251215T160254Z
LAST-MODIFIED:20251215T160254Z
UID:4225-1766016000-1766102399@evangelikusovi.hu
SUMMARY:Csoportos karácsony
DESCRIPTION:Kedves Szülők! \nCsütörtökön (december 18-án) tartjuk a \ncsoportos karácsonyunkat! \nKérjük gyermekeiteket 9:00-ig hozzátok \nbe\, csinos ruhába öltöztetve! \nKöszönettel\nÓvodapedagógusok
URL:https://evangelikusovi.hu/esemeny/csoportos-karacsony-2/
END:VEVENT
BEGIN:VEVENT
DTSTART;VALUE=DATE:20251219
DTEND;VALUE=DATE:20251220
DTSTAMP:20260426T062525
CREATED:20251210T053026Z
LAST-MODIFIED:20251215T160623Z
UID:4165-1766102400-1766188799@evangelikusovi.hu
SUMMARY:Nevelés nélküli munkanap
DESCRIPTION:Kedves Szülők! \n2025.december 19-én\, pénteken\, nevelés nélküli munkanapot tartunk.\nEzen a napon kérjük\, gondoskodjatok a gyermek(ek) elhelyezéséről\, mivel óvodánk zárva lesz! \nMEGÉRTÉSETEKET ELŐRE IS KÖSZÖNJÜK.\nGallai Tamás\nóvodavezető
URL:https://evangelikusovi.hu/esemeny/neveles-nelkuli-munkanap-18/
END:VEVENT
END:VCALENDAR