BEGIN:VCALENDAR
VERSION:2.0
PRODID:-//Szentendrei Evangélikus Zenei Óvoda - ECPv6.5.2//NONSGML v1.0//EN
CALSCALE:GREGORIAN
METHOD:PUBLISH
X-WR-CALNAME:Szentendrei Evangélikus Zenei Óvoda
X-ORIGINAL-URL:https://evangelikusovi.hu
X-WR-CALDESC:Events for Szentendrei Evangélikus Zenei Óvoda
REFRESH-INTERVAL;VALUE=DURATION:PT1H
X-Robots-Tag:noindex
X-PUBLISHED-TTL:PT1H
BEGIN:VTIMEZONE
TZID:Europe/Budapest
BEGIN:DAYLIGHT
TZOFFSETFROM:+0100
TZOFFSETTO:+0200
TZNAME:CEST
DTSTART:20260329T010000
END:DAYLIGHT
BEGIN:STANDARD
TZOFFSETFROM:+0200
TZOFFSETTO:+0100
TZNAME:CET
DTSTART:20261025T010000
END:STANDARD
END:VTIMEZONE
BEGIN:VEVENT
DTSTART;TZID=Europe/Budapest:20260208T100000
DTEND;TZID=Europe/Budapest:20260208T110000
DTSTAMP:20260425T221546
CREATED:20260205T051825Z
LAST-MODIFIED:20260205T051825Z
UID:4331-1770544800-1770548400@evangelikusovi.hu
SUMMARY:Családi Istentisztelet
DESCRIPTION:  \n  \nKedves Szülők! \nSzeretettel hívunk minden ovis családot \na vasárnap (február 08-án) délelőtt 10 órától kezdődő \ncsaládi istentiszteletre\, \namelyet templomunkban tartunk. \nIstentiszteletünkön \nRosa Lutheri Együttes szolgál. \naz óvoda vezetősége és lelkésze \n  \n  \n  \n  \n  \n 
URL:https://evangelikusovi.hu/esemeny/csaladi-istentisztelet-27/
CATEGORIES:Hitélet
END:VEVENT
END:VCALENDAR